BEGIN:VCALENDAR
VERSION:2.0
PRODID:-//Ayuntamiento - Soto del Real - ECPv5.4.0.1//NONSGML v1.0//EN
CALSCALE:GREGORIAN
METHOD:PUBLISH
X-WR-CALNAME:Ayuntamiento - Soto del Real
X-ORIGINAL-URL:https://www.ayto-sotodelreal.es
X-WR-CALDESC:Eventos para Ayuntamiento - Soto del Real
BEGIN:VTIMEZONE
TZID:Europe/Paris
BEGIN:DAYLIGHT
TZOFFSETFROM:+0100
TZOFFSETTO:+0200
TZNAME:CEST
DTSTART:20190331T010000
END:DAYLIGHT
BEGIN:STANDARD
TZOFFSETFROM:+0200
TZOFFSETTO:+0100
TZNAME:CET
DTSTART:20191027T010000
END:STANDARD
END:VTIMEZONE
BEGIN:VEVENT
DTSTART;TZID=Europe/Paris:20190317T110000
DTEND;TZID=Europe/Paris:20190317T130000
DTSTAMP:20260419T195323
CREATED:20190218T133255Z
LAST-MODIFIED:20190218T133255Z
UID:17310-1552820400-1552827600@www.ayto-sotodelreal.es
SUMMARY:TALLER MANUALIDAD REGALO DÍA DEL PADRE
DESCRIPTION:ACARTE (Asociación Cultural de Artistas y Artesanos de Soto del Real) \nTALLER MANUALIDAD REGALO DÍA DEL PADRE\nNiñ@s a  partir de 7 años. Aforo 15 participantes \n17 de marzo\, 11:00h\nPlaza de la Villa\nINSCRIPCIONES: Acarte.artesanosdesoto@gmail.com\nPRECIO: 1 euro \nMÁS INFORMACIÓN: acarte.artesanosdesoto@gmail.com
URL:https://www.ayto-sotodelreal.es/event/taller-manualidad-regalo-dia-del-padre/
ATTACH;FMTTYPE=image/png:https://www.ayto-sotodelreal.es/wp-content/uploads/2019/02/FOTO-24.png
END:VEVENT
END:VCALENDAR