BEGIN:VCALENDAR
VERSION:2.0
PRODID:-//Ayuntamiento - Soto del Real - ECPv5.4.0.1//NONSGML v1.0//EN
CALSCALE:GREGORIAN
METHOD:PUBLISH
X-WR-CALNAME:Ayuntamiento - Soto del Real
X-ORIGINAL-URL:https://www.ayto-sotodelreal.es
X-WR-CALDESC:Eventos para Ayuntamiento - Soto del Real
BEGIN:VTIMEZONE
TZID:Europe/Paris
BEGIN:DAYLIGHT
TZOFFSETFROM:+0100
TZOFFSETTO:+0200
TZNAME:CEST
DTSTART:20240331T010000
END:DAYLIGHT
BEGIN:STANDARD
TZOFFSETFROM:+0200
TZOFFSETTO:+0100
TZNAME:CET
DTSTART:20241027T010000
END:STANDARD
END:VTIMEZONE
BEGIN:VEVENT
DTSTART;TZID=Europe/Paris:20241223T170000
DTEND;TZID=Europe/Paris:20241223T170000
DTSTAMP:20260421T171753
CREATED:20241104T124741Z
LAST-MODIFIED:20241109T125355Z
UID:42707-1734973200-1734973200@www.ayto-sotodelreal.es
SUMMARY:TALLER DECORACIÓN NAVIDEÑA CON PAPEL
DESCRIPTION:DÍA: 23 diciembre; \nHORA: 17:00 a 19:00 h;  \nLUGAR: Centro Cultural; \nINSCRIPCIONES: Gratuitas\, con inscripción previa en el Centro Cultural; \nPÚBLICO: A partir de 6 años\, niño/adulto. (20 personas máx).  \nTaller familiar\, niño/adulto\, de dos horas de duración\, en el que aprenderemos a hacer adornos sencillos de navidad con base de papel para nuestro hogar: recortaremos\, doblaremos\, enrollaremos y disfrutaremos.\nEdad mínima de los peques. 6 años. Material incluido. 
URL:https://www.ayto-sotodelreal.es/event/taller-decoracion-navidena-con-papel/
CATEGORIES:Cultura,Familia,Infantil
ATTACH;FMTTYPE=image/jpeg:https://www.ayto-sotodelreal.es/wp-content/uploads/2024/11/12.23-ADORNOS-NAVIDAD-EN-PAPEL.jpg
END:VEVENT
END:VCALENDAR