BEGIN:VCALENDAR
VERSION:2.0
PRODID:-//Ayuntamiento - Soto del Real - ECPv5.4.0.1//NONSGML v1.0//EN
CALSCALE:GREGORIAN
METHOD:PUBLISH
X-WR-CALNAME:Ayuntamiento - Soto del Real
X-ORIGINAL-URL:https://www.ayto-sotodelreal.es
X-WR-CALDESC:Eventos para Ayuntamiento - Soto del Real
BEGIN:VTIMEZONE
TZID:Europe/Paris
BEGIN:DAYLIGHT
TZOFFSETFROM:+0100
TZOFFSETTO:+0200
TZNAME:CEST
DTSTART:20220327T010000
END:DAYLIGHT
BEGIN:STANDARD
TZOFFSETFROM:+0200
TZOFFSETTO:+0100
TZNAME:CET
DTSTART:20221030T010000
END:STANDARD
END:VTIMEZONE
BEGIN:VEVENT
DTSTART;TZID=Europe/Paris:20221008T120000
DTEND;TZID=Europe/Paris:20221008T120000
DTSTAMP:20260422T120101
CREATED:20220921T065127Z
LAST-MODIFIED:20220921T065127Z
UID:32938-1665230400-1665230400@www.ayto-sotodelreal.es
SUMMARY:TALLER DE PRIMERA INFANCIA: SENTIR LA ARCILLA
DESCRIPTION:LUGAR ENCUENTRO: Parque del Río; \nDÍA: 8 octubre; \nHORA: 12:00 h; \nPÚBLICO: A partir de 18 meses hasta los 3 años; \nINSCRIPCIONES: Centro Cultural / centrocultural@ayto-sotodelreal.es / 918 48 01 14 \nPRECIO: 7€ por pareja.  \nPropuesta sensorial con arcilla.\nUn tiempo de estar concentrados en familia\, dejando fuera las prisas.\nSilencio\, observación\, belleza\, y expresión de las emociones de manera creativa\, con nuestras manos.\nMaterial con arcilla y naturales propios de la estación\, utensilios para amasarla\, pellizcarla\, cortarla\, transformarla y\, sobre todo\, sentirla. \n 
URL:https://www.ayto-sotodelreal.es/event/taller-de-primera-infancia-sentir-la-arcilla/
CATEGORIES:Cultura,Familia,Infantil
ATTACH;FMTTYPE=image/png:https://www.ayto-sotodelreal.es/wp-content/uploads/2022/09/arcilla.png
END:VEVENT
END:VCALENDAR