BEGIN:VCALENDAR
VERSION:2.0
PRODID:-//Ayuntamiento - Soto del Real - ECPv5.4.0.1//NONSGML v1.0//EN
CALSCALE:GREGORIAN
METHOD:PUBLISH
X-WR-CALNAME:Ayuntamiento - Soto del Real
X-ORIGINAL-URL:https://www.ayto-sotodelreal.es
X-WR-CALDESC:Eventos para Ayuntamiento - Soto del Real
BEGIN:VTIMEZONE
TZID:Europe/Paris
BEGIN:DAYLIGHT
TZOFFSETFROM:+0100
TZOFFSETTO:+0200
TZNAME:CEST
DTSTART:20240331T010000
END:DAYLIGHT
BEGIN:STANDARD
TZOFFSETFROM:+0200
TZOFFSETTO:+0100
TZNAME:CET
DTSTART:20241027T010000
END:STANDARD
END:VTIMEZONE
BEGIN:VEVENT
DTSTART;TZID=Europe/Paris:20241215T120000
DTEND;TZID=Europe/Paris:20241215T120000
DTSTAMP:20260423T121958
CREATED:20240910T095333Z
LAST-MODIFIED:20241124T091643Z
UID:41918-1734264000-1734264000@www.ayto-sotodelreal.es
SUMMARY:TALLER DE NAVIDAD INFANTIL
DESCRIPTION:FECHA: 8 y 15 de diciembre; \nHORA: 12:00 h; \nLUGAR: Casa de la Infancia; \nPÚBLICO: 4º\, 5º y 6º primaria. (Nacidos 2013 a 2015).  \nEl taller de Navidad en la Casa de la Juventud es una actividad diseñada para que los niños participen en la decoración del espacio para las festividades navideñas. Este taller nos permite realizar una actividad creativa y construir la decoración del espacio entre todos y todas. \nTaller subvencionado por el Plan Corresponsables y el Ministerio de Igualdad. 
URL:https://www.ayto-sotodelreal.es/event/taller-de-navidad-infantil-2/
LOCATION:Casa de la Juventud\, C/ Concejo\, 6\, Soto del Real \, Madrid\, 28791
CATEGORIES:Infantil
ATTACH;FMTTYPE=image/png:https://www.ayto-sotodelreal.es/wp-content/uploads/2024/09/23.png
END:VEVENT
END:VCALENDAR