BEGIN:VCALENDAR
VERSION:2.0
PRODID:-//Ayuntamiento - Soto del Real - ECPv5.4.0.1//NONSGML v1.0//EN
CALSCALE:GREGORIAN
METHOD:PUBLISH
X-WR-CALNAME:Ayuntamiento - Soto del Real
X-ORIGINAL-URL:https://www.ayto-sotodelreal.es
X-WR-CALDESC:Eventos para Ayuntamiento - Soto del Real
BEGIN:VTIMEZONE
TZID:Europe/Paris
BEGIN:DAYLIGHT
TZOFFSETFROM:+0100
TZOFFSETTO:+0200
TZNAME:CEST
DTSTART:20250330T010000
END:DAYLIGHT
BEGIN:STANDARD
TZOFFSETFROM:+0200
TZOFFSETTO:+0100
TZNAME:CET
DTSTART:20251026T010000
END:STANDARD
END:VTIMEZONE
BEGIN:VEVENT
DTSTART;TZID=Europe/Paris:20250426T100000
DTEND;TZID=Europe/Paris:20250426T123000
DTSTAMP:20260423T171240
CREATED:20250402T084618Z
LAST-MODIFIED:20250402T084618Z
UID:44885-1745661600-1745670600@www.ayto-sotodelreal.es
SUMMARY:TALLER DE GRABADO SOBRE FEDERICO GARCÍA LORCA
DESCRIPTION:
URL:https://www.ayto-sotodelreal.es/event/taller-de-grabado-sobre-federico-garcia-lorca/
LOCATION:Plaza de la Villa\, Plaza de la Villa\, Soto del Real \, madrid \, 28791
CATEGORIES:Biblioteca,Cultura,Teatro
ATTACH;FMTTYPE=image/jpeg:https://www.ayto-sotodelreal.es/wp-content/uploads/2025/04/Taller-EnVolandas-Lorca.jpg
END:VEVENT
END:VCALENDAR