BEGIN:VCALENDAR
VERSION:2.0
PRODID:-//Ayuntamiento - Soto del Real - ECPv5.4.0.1//NONSGML v1.0//EN
CALSCALE:GREGORIAN
METHOD:PUBLISH
X-WR-CALNAME:Ayuntamiento - Soto del Real
X-ORIGINAL-URL:https://www.ayto-sotodelreal.es
X-WR-CALDESC:Eventos para Ayuntamiento - Soto del Real
BEGIN:VTIMEZONE
TZID:Europe/Paris
BEGIN:DAYLIGHT
TZOFFSETFROM:+0100
TZOFFSETTO:+0200
TZNAME:CEST
DTSTART:20190331T010000
END:DAYLIGHT
BEGIN:STANDARD
TZOFFSETFROM:+0200
TZOFFSETTO:+0100
TZNAME:CET
DTSTART:20191027T010000
END:STANDARD
END:VTIMEZONE
BEGIN:VEVENT
DTSTART;TZID=Europe/Paris:20191205T180000
DTEND;TZID=Europe/Paris:20191205T200000
DTSTAMP:20260420T151936
CREATED:20191106T122955Z
LAST-MODIFIED:20191127T105256Z
UID:21613-1575568800-1575576000@www.ayto-sotodelreal.es
SUMMARY:TALLER DE CABALGATA JUVENTUD 
DESCRIPTION:TALLER DE CABALGATA JUVENTUD \nParticipa en la creación de la carroza de juventud que acompañará a los reyes magos en su día. Ayúdanos y podrás ser uno de los jóvenes que se suban a la carroza. Para mayores de 11 años.\nLos días 5\, 12\, 19\, 26 de Diciembre y 2 de Enero.\nEn horario de 18:00 a 20:00h.\nCasa de la juventud\nEn la casa de la juventud y a través del correo: juventud@ayto-sotodelreal.es \nDescarga aquí la inscripción 
URL:https://www.ayto-sotodelreal.es/event/taller-de-cabalgata-juventud-5/
CATEGORIES:Juventud
ATTACH;FMTTYPE=image/jpeg:https://www.ayto-sotodelreal.es/wp-content/uploads/2019/11/taller-cabalgata.jpg
END:VEVENT
END:VCALENDAR