BEGIN:VCALENDAR
VERSION:2.0
PRODID:-//Ayuntamiento - Soto del Real - ECPv5.4.0.1//NONSGML v1.0//EN
CALSCALE:GREGORIAN
METHOD:PUBLISH
X-WR-CALNAME:Ayuntamiento - Soto del Real
X-ORIGINAL-URL:https://www.ayto-sotodelreal.es
X-WR-CALDESC:Eventos para Ayuntamiento - Soto del Real
BEGIN:VTIMEZONE
TZID:Europe/Paris
BEGIN:DAYLIGHT
TZOFFSETFROM:+0100
TZOFFSETTO:+0200
TZNAME:CEST
DTSTART:20190331T010000
END:DAYLIGHT
BEGIN:STANDARD
TZOFFSETFROM:+0200
TZOFFSETTO:+0100
TZNAME:CET
DTSTART:20191027T010000
END:STANDARD
END:VTIMEZONE
BEGIN:VEVENT
DTSTART;TZID=Europe/Paris:20191227T110000
DTEND;TZID=Europe/Paris:20191227T140000
DTSTAMP:20260420T170957
CREATED:20191106T131155Z
LAST-MODIFIED:20191106T131155Z
UID:21630-1577444400-1577455200@www.ayto-sotodelreal.es
SUMMARY:TALLER DE CABALGATA EN FAMILIA  
DESCRIPTION:TALLER DE CABALGATA EN FAMILIA   \nParticipa en la creación de la carroza infantil que acompañará a los reyes magos en su día. \nPara niños y niñas acompañados de adultos.  \nViernes 27 de diciembre de  11:00 a 14:00 h. \nJueves 2 de enero de 11:00 a 14:00 h. \nViernes 3 de enero de 11:00 a 14:00 h.  \nCasa de la Cultura. 
URL:https://www.ayto-sotodelreal.es/event/taller-de-cabalgata-en-familia-2/
CATEGORIES:Familia
ATTACH;FMTTYPE=image/jpeg:https://www.ayto-sotodelreal.es/wp-content/uploads/2019/11/taller-cabalgata-familias.jpg
END:VEVENT
END:VCALENDAR