BEGIN:VCALENDAR
VERSION:2.0
PRODID:-//Ayuntamiento - Soto del Real - ECPv5.4.0.1//NONSGML v1.0//EN
CALSCALE:GREGORIAN
METHOD:PUBLISH
X-WR-CALNAME:Ayuntamiento - Soto del Real
X-ORIGINAL-URL:https://www.ayto-sotodelreal.es
X-WR-CALDESC:Eventos para Ayuntamiento - Soto del Real
BEGIN:VTIMEZONE
TZID:Europe/Paris
BEGIN:DAYLIGHT
TZOFFSETFROM:+0100
TZOFFSETTO:+0200
TZNAME:CEST
DTSTART:20210328T010000
END:DAYLIGHT
BEGIN:STANDARD
TZOFFSETFROM:+0200
TZOFFSETTO:+0100
TZNAME:CET
DTSTART:20211031T010000
END:STANDARD
END:VTIMEZONE
BEGIN:VEVENT
DTSTART;TZID=Europe/Paris:20210720T100000
DTEND;TZID=Europe/Paris:20210720T113000
DTSTAMP:20260423T170814
CREATED:20210622T065638Z
LAST-MODIFIED:20210623T115713Z
UID:27829-1626775200-1626780600@www.ayto-sotodelreal.es
SUMMARY:TAI CHI / CHIKUNG
DESCRIPTION:La clase se realiza en el Parque del Rio donde cualquier persona puede participar sin tener que estar inscrita\, acceso libre en cualquier momento.
URL:https://www.ayto-sotodelreal.es/event/tai-chi-chikung-3/
CATEGORIES:Deportes
ATTACH;FMTTYPE=image/png:https://www.ayto-sotodelreal.es/wp-content/uploads/2021/06/07.-taichi.png
END:VEVENT
END:VCALENDAR