BEGIN:VCALENDAR
VERSION:2.0
PRODID:-//Ayuntamiento - Soto del Real - ECPv5.4.0.1//NONSGML v1.0//EN
CALSCALE:GREGORIAN
METHOD:PUBLISH
X-WR-CALNAME:Ayuntamiento - Soto del Real
X-ORIGINAL-URL:https://www.ayto-sotodelreal.es
X-WR-CALDESC:Eventos para Ayuntamiento - Soto del Real
BEGIN:VTIMEZONE
TZID:Europe/Paris
BEGIN:DAYLIGHT
TZOFFSETFROM:+0100
TZOFFSETTO:+0200
TZNAME:CEST
DTSTART:20210328T010000
END:DAYLIGHT
BEGIN:STANDARD
TZOFFSETFROM:+0200
TZOFFSETTO:+0100
TZNAME:CET
DTSTART:20211031T010000
END:STANDARD
END:VTIMEZONE
BEGIN:VEVENT
DTSTART;VALUE=DATE:20210801
DTEND;VALUE=DATE:20210802
DTSTAMP:20260424T182425
CREATED:20210726T121232Z
LAST-MODIFIED:20210726T121232Z
UID:28221-1627776000-1627862399@www.ayto-sotodelreal.es
SUMMARY:SOTOCHESS 2021: TORNEO ON LINE DE AJEDREZ.
DESCRIPTION:TORNEO DE AJEDREZ ONLINE \nDurante los meses de agosto y septiembre se disputará el Torneo de ajedrez online Sotochess 2021. \nComienzo: 1 de Agosto \nLugar: Plataforma de ajedrez lichess \nDuración: 9 rondas de 30+15\, una ronda cada 5 días \nInscripciones: charlyw72@gmail.com \nPrecio: Gratuito \nAdjuntar: Nombre y primer apellido\, Nick de lichess y teléfono. \nSe hará un grupo de whatsapp para publicar las rondas y las partidas.
URL:https://www.ayto-sotodelreal.es/event/sotochess-2021-torneo-on-line-de-ajedrez/
CATEGORIES:Cultura,Deportes
ATTACH;FMTTYPE=image/jpeg:https://www.ayto-sotodelreal.es/wp-content/uploads/2021/07/Captura-lichess.jpg
END:VEVENT
END:VCALENDAR