BEGIN:VCALENDAR
VERSION:2.0
PRODID:-//Ayuntamiento - Soto del Real - ECPv5.4.0.1//NONSGML v1.0//EN
CALSCALE:GREGORIAN
METHOD:PUBLISH
X-WR-CALNAME:Ayuntamiento - Soto del Real
X-ORIGINAL-URL:https://www.ayto-sotodelreal.es
X-WR-CALDESC:Eventos para Ayuntamiento - Soto del Real
BEGIN:VTIMEZONE
TZID:Europe/Paris
BEGIN:DAYLIGHT
TZOFFSETFROM:+0100
TZOFFSETTO:+0200
TZNAME:CEST
DTSTART:20240331T010000
END:DAYLIGHT
BEGIN:STANDARD
TZOFFSETFROM:+0200
TZOFFSETTO:+0100
TZNAME:CET
DTSTART:20241027T010000
END:STANDARD
END:VTIMEZONE
BEGIN:VEVENT
DTSTART;TZID=Europe/Paris:20241215T100000
DTEND;TZID=Europe/Paris:20241215T140000
DTSTAMP:20260421T193931
CREATED:20241104T112657Z
LAST-MODIFIED:20241210T071618Z
UID:42694-1734256800-1734271200@www.ayto-sotodelreal.es
SUMMARY:RUTA MITOLÓGICA
DESCRIPTION:DÍA: 15 de diciembre; \nHORA: 10:00 a 14:00 h; \nLUGAR: entorno de Soto del Real; \nINSCRIPCIONES: Centro Cultural; \nPRECIO: 7€ la pareja (niño + adulto).  \nPÚBLICO: Familias y niños/as a partir de 7 años. Máximo 30 personas. \nUna ruta en la que conoceremos los ecosistemas mediterráneos de Soto del Real y sus especies más singulares. Por el camino hablaremos de todo lo que salga a nuestro paso\, pudiendo ver especies tan icónicas como el águila imperial\, el buitre negro o la culebra de escalera. \nAcompañaremos las explicaciones biológicas con mitos y leyendas de distintas culturas asociados a nuestra fauna y flora.\nRecorrido: ruta lineal hacia el embalse de los Palancares por el camino de Cruz de Toribio.\nDistancia: 7 km\nDificultad: fácil – media\nDuración: 4 horas
URL:https://www.ayto-sotodelreal.es/event/ruta-mitologica/
CATEGORIES:Cultura,Familia,Infantil
ATTACH;FMTTYPE=image/png:https://www.ayto-sotodelreal.es/wp-content/uploads/2024/11/ANULADO.png
END:VEVENT
END:VCALENDAR