BEGIN:VCALENDAR
VERSION:2.0
PRODID:-//Ayuntamiento - Soto del Real - ECPv5.4.0.1//NONSGML v1.0//EN
CALSCALE:GREGORIAN
METHOD:PUBLISH
X-WR-CALNAME:Ayuntamiento - Soto del Real
X-ORIGINAL-URL:https://www.ayto-sotodelreal.es
X-WR-CALDESC:Eventos para Ayuntamiento - Soto del Real
BEGIN:VTIMEZONE
TZID:Europe/Paris
BEGIN:DAYLIGHT
TZOFFSETFROM:+0100
TZOFFSETTO:+0200
TZNAME:CEST
DTSTART:20250330T010000
END:DAYLIGHT
BEGIN:STANDARD
TZOFFSETFROM:+0200
TZOFFSETTO:+0100
TZNAME:CET
DTSTART:20251026T010000
END:STANDARD
END:VTIMEZONE
BEGIN:VEVENT
DTSTART;TZID=Europe/Paris:20250914T100000
DTEND;TZID=Europe/Paris:20250914T130000
DTSTAMP:20260419T152700
CREATED:20250902T123419Z
LAST-MODIFIED:20250902T123606Z
UID:46521-1757844000-1757854800@www.ayto-sotodelreal.es
SUMMARY:RUTA GUIADA POR EL CAMINO MENDOCINO: SOTO-GUADALIX
DESCRIPTION:DÍA: domingo 14 septiembre;  \nHORA: 10:00 h a 13:30 h;  \nPUNTO DE SALIDA: Oficina de Turismo de Soto del Real; \nDISTANCIA: 9 km aproximadamente; \nDIFICULTAD: baja; \nTRACK DE LA RUTA: https://es.wikiloc.com/rutas-senderismo/soto-del-real-guadalix-de-la-sierra-229838106  \nENTRADAS: 3€ en mutick.com  \nIniciamos la temporada de rutas 2025/2026 con esta sencilla ruta que nos llevará hasta Guadalix de la Sierra por el Camino de Santiago Mendocino. Recorreremos la etapa 4ª del camino mendocino pero en sentido contrario para\, una vez llegados a Guadalix tomar el autobus de vuelta hasta Soto.  \nRuta que discurre integramente por pistas forestales y caminos en buen estado\, sin grandes pendientes por lo que es apta para todo tipo de público. A nuestro paso tendremos la oportunidad de disfrutar de unas de las mejores vistas de la Sierra del Guadarrama desde su pie de monte madrileño. También nos toparemos con grandes fincas ganaderas de toros de lidia\, como la ganadería Victoriano del Río.  \nSe recomienda llevar ropa y calzado cómodos y apropiados para la ocasión\, así como algo de agua y comida. 
URL:https://www.ayto-sotodelreal.es/event/ruta-guiada-por-el-camino-mendocino-soto-guadalix/
LOCATION:Soto del Real\, Soto del Real 
CATEGORIES:Turismo
ATTACH;FMTTYPE=image/png:https://www.ayto-sotodelreal.es/wp-content/uploads/2025/09/Rutas-guiadas-1.png
END:VEVENT
END:VCALENDAR