BEGIN:VCALENDAR
VERSION:2.0
PRODID:-//Ayuntamiento - Soto del Real - ECPv5.4.0.1//NONSGML v1.0//EN
CALSCALE:GREGORIAN
METHOD:PUBLISH
X-WR-CALNAME:Ayuntamiento - Soto del Real
X-ORIGINAL-URL:https://www.ayto-sotodelreal.es
X-WR-CALDESC:Eventos para Ayuntamiento - Soto del Real
BEGIN:VTIMEZONE
TZID:Europe/Paris
BEGIN:DAYLIGHT
TZOFFSETFROM:+0100
TZOFFSETTO:+0200
TZNAME:CEST
DTSTART:20210328T010000
END:DAYLIGHT
BEGIN:STANDARD
TZOFFSETFROM:+0200
TZOFFSETTO:+0100
TZNAME:CET
DTSTART:20211031T010000
END:STANDARD
END:VTIMEZONE
BEGIN:VEVENT
DTSTART;TZID=Europe/Paris:20210105T170000
DTEND;TZID=Europe/Paris:20210105T190000
DTSTAMP:20260425T131857
CREATED:20201206T131516Z
LAST-MODIFIED:20201209T133408Z
UID:26201-1609866000-1609873200@www.ayto-sotodelreal.es
SUMMARY:REYES EN EL C.A.T.
DESCRIPTION:Ven a ver a los Reyes Magos de Oriente en el Centro de Arte y Turismo.  \nDos adultos máximo por niño. No se permite contacto físico con los Reyes Magos.  \nPases desde las 17:00 a las 19:00 h previa reserva en el mail  centrocultural@ayto-sotodelreal.es \n 
URL:https://www.ayto-sotodelreal.es/event/reyes-en-el-c-a-t/
CATEGORIES:Centro de Arte y Turismo,Familia,Fiestas,Infantil,Juventud
ATTACH;FMTTYPE=image/png:https://www.ayto-sotodelreal.es/wp-content/uploads/2020/12/Diseño-sin-título-480x183-1.png
END:VEVENT
END:VCALENDAR