BEGIN:VCALENDAR
VERSION:2.0
PRODID:-//Ayuntamiento - Soto del Real - ECPv5.4.0.1//NONSGML v1.0//EN
CALSCALE:GREGORIAN
METHOD:PUBLISH
X-WR-CALNAME:Ayuntamiento - Soto del Real
X-ORIGINAL-URL:https://www.ayto-sotodelreal.es
X-WR-CALDESC:Eventos para Ayuntamiento - Soto del Real
BEGIN:VTIMEZONE
TZID:Europe/Paris
BEGIN:DAYLIGHT
TZOFFSETFROM:+0100
TZOFFSETTO:+0200
TZNAME:CEST
DTSTART:20250330T010000
END:DAYLIGHT
BEGIN:STANDARD
TZOFFSETFROM:+0200
TZOFFSETTO:+0100
TZNAME:CET
DTSTART:20251026T010000
END:STANDARD
END:VTIMEZONE
BEGIN:VEVENT
DTSTART;TZID=Europe/Paris:20251025T163000
DTEND;TZID=Europe/Paris:20251025T163000
DTSTAMP:20260421T201647
CREATED:20251015T104112Z
LAST-MODIFIED:20251015T104112Z
UID:47481-1761409800-1761409800@www.ayto-sotodelreal.es
SUMMARY:RESPIRANDO POR LA PAZ
DESCRIPTION:
URL:https://www.ayto-sotodelreal.es/event/respirando-por-la-paz/
LOCATION:Complejo deportivo Prado Real\, C/ La Orden\, Soto del Real \, madrid \, 28791
CATEGORIES:Deportes
ATTACH;FMTTYPE=image/png:https://www.ayto-sotodelreal.es/wp-content/uploads/2025/10/RESPIRANDO-POR-LA-PAZ.png
END:VEVENT
END:VCALENDAR