BEGIN:VCALENDAR
VERSION:2.0
PRODID:-//Ayuntamiento - Soto del Real - ECPv5.4.0.1//NONSGML v1.0//EN
CALSCALE:GREGORIAN
METHOD:PUBLISH
X-WR-CALNAME:Ayuntamiento - Soto del Real
X-ORIGINAL-URL:https://www.ayto-sotodelreal.es
X-WR-CALDESC:Eventos para Ayuntamiento - Soto del Real
BEGIN:VTIMEZONE
TZID:Europe/Paris
BEGIN:DAYLIGHT
TZOFFSETFROM:+0100
TZOFFSETTO:+0200
TZNAME:CEST
DTSTART:20190331T010000
END:DAYLIGHT
BEGIN:STANDARD
TZOFFSETFROM:+0200
TZOFFSETTO:+0100
TZNAME:CET
DTSTART:20191027T010000
END:STANDARD
END:VTIMEZONE
BEGIN:VEVENT
DTSTART;TZID=Europe/Paris:20191219T183000
DTEND;TZID=Europe/Paris:20191219T200000
DTSTAMP:20260422T102840
CREATED:20191212T093529Z
LAST-MODIFIED:20191212T093529Z
UID:22125-1576780200-1576785600@www.ayto-sotodelreal.es
SUMMARY:RELATOS SOBRE LO QUE AMAMOS
DESCRIPTION:“Tarde de cuentos: Relatos sobre lo que amamos” \nTaller literario abierto al público. \n19 de diciembre \nDe 18:30- 20:00 horas
URL:https://www.ayto-sotodelreal.es/event/relatos-sobre-lo-que-amamos/
CATEGORIES:Biblioteca
END:VEVENT
END:VCALENDAR