BEGIN:VCALENDAR
VERSION:2.0
PRODID:-//Ayuntamiento - Soto del Real - ECPv5.4.0.1//NONSGML v1.0//EN
CALSCALE:GREGORIAN
METHOD:PUBLISH
X-WR-CALNAME:Ayuntamiento - Soto del Real
X-ORIGINAL-URL:https://www.ayto-sotodelreal.es
X-WR-CALDESC:Eventos para Ayuntamiento - Soto del Real
BEGIN:VTIMEZONE
TZID:Europe/Paris
BEGIN:DAYLIGHT
TZOFFSETFROM:+0100
TZOFFSETTO:+0200
TZNAME:CEST
DTSTART:20210328T010000
END:DAYLIGHT
BEGIN:STANDARD
TZOFFSETFROM:+0200
TZOFFSETTO:+0100
TZNAME:CET
DTSTART:20211031T010000
END:STANDARD
END:VTIMEZONE
BEGIN:VEVENT
DTSTART;TZID=Europe/Paris:20210718T200000
DTEND;TZID=Europe/Paris:20210718T200000
DTSTAMP:20260423T185155
CREATED:20210622T072302Z
LAST-MODIFIED:20210710T110234Z
UID:27844-1626638400-1626638400@www.ayto-sotodelreal.es
SUMMARY:LA SIERRA MUSIC FEST: RECITAL LÍRICO "AMOR EN PALABRAS"
DESCRIPTION:LUGAR: CAT \nHORA: 20:00 h \nENTRADA: 8€ en mutick.com 
URL:https://www.ayto-sotodelreal.es/event/recital-lirico/
CATEGORIES:Cultura,Música
ATTACH;FMTTYPE=image/jpeg:https://www.ayto-sotodelreal.es/wp-content/uploads/2021/06/f598893c-d6f3-42a5-ad83-e21996e52055.jpg
END:VEVENT
END:VCALENDAR