BEGIN:VCALENDAR
VERSION:2.0
PRODID:-//Ayuntamiento - Soto del Real - ECPv5.4.0.1//NONSGML v1.0//EN
CALSCALE:GREGORIAN
METHOD:PUBLISH
X-WR-CALNAME:Ayuntamiento - Soto del Real
X-ORIGINAL-URL:https://www.ayto-sotodelreal.es
X-WR-CALDESC:Eventos para Ayuntamiento - Soto del Real
BEGIN:VTIMEZONE
TZID:Europe/Paris
BEGIN:DAYLIGHT
TZOFFSETFROM:+0100
TZOFFSETTO:+0200
TZNAME:CEST
DTSTART:20250330T010000
END:DAYLIGHT
BEGIN:STANDARD
TZOFFSETFROM:+0200
TZOFFSETTO:+0100
TZNAME:CET
DTSTART:20251026T010000
END:STANDARD
END:VTIMEZONE
BEGIN:VEVENT
DTSTART;TZID=Europe/Paris:20250927T170000
DTEND;TZID=Europe/Paris:20250927T170000
DTSTAMP:20260425T162053
CREATED:20250915T070212Z
LAST-MODIFIED:20250915T070212Z
UID:46771-1758992400-1758992400@www.ayto-sotodelreal.es
SUMMARY:PUERTAS ABIERTAS HÍPICA (SED)
DESCRIPTION:ORGANIZADOR: Club Hípico el Soto \nFECHA: 21 y 27 de Septiembre \nHORA: 17:00h \nLUGAR: HÍPICA EL SOTO \nPRECIO: GRATUITA \n+ INFO: hipicasotodelreal@gmail.com
URL:https://www.ayto-sotodelreal.es/event/puertas-abiertas-hipica-sed-2/
LOCATION:Complejo deportivo Prado Real\, C/ La Orden\, Soto del Real \, madrid \, 28791
CATEGORIES:Deportes
ATTACH;FMTTYPE=image/png:https://www.ayto-sotodelreal.es/wp-content/uploads/2025/09/20250921_PUERTAS-ABIERTAS-Hipica-El-Soto.png
END:VEVENT
END:VCALENDAR