BEGIN:VCALENDAR
VERSION:2.0
PRODID:-//Ayuntamiento - Soto del Real - ECPv5.4.0.1//NONSGML v1.0//EN
CALSCALE:GREGORIAN
METHOD:PUBLISH
X-WR-CALNAME:Ayuntamiento - Soto del Real
X-ORIGINAL-URL:https://www.ayto-sotodelreal.es
X-WR-CALDESC:Eventos para Ayuntamiento - Soto del Real
BEGIN:VTIMEZONE
TZID:Europe/Paris
BEGIN:DAYLIGHT
TZOFFSETFROM:+0100
TZOFFSETTO:+0200
TZNAME:CEST
DTSTART:20250330T010000
END:DAYLIGHT
BEGIN:STANDARD
TZOFFSETFROM:+0200
TZOFFSETTO:+0100
TZNAME:CET
DTSTART:20251026T010000
END:STANDARD
END:VTIMEZONE
BEGIN:VEVENT
DTSTART;TZID=Europe/Paris:20251114T190000
DTEND;TZID=Europe/Paris:20251114T190000
DTSTAMP:20260425T163612
CREATED:20250915T090752Z
LAST-MODIFIED:20251103T121454Z
UID:46813-1763146800-1763146800@www.ayto-sotodelreal.es
SUMMARY:PROYECCIÓN Y COLOQUIO: EL LEGADO DE LAS PASTORAS
DESCRIPTION:Proyección y coloquio documental “El legado de las pastoras” con María Julián\n \nFECHA: Viernes 14 de noviembre;\n \nHORA: 19:00 h;\n \nLUGAR: CAT;\n\n \nGuion y Dirección: María Julián Prados\nEquipo técnico: Marta Huertas Abad y Leto García Roy\, de la productora audiovisual La Proyectora de Ideas\nProducción: Mancomunidad del Embalse del Atazar\nCanción original: ”La pastora y la luna” María Julián Prados\nIntérprete instrumental: Luis García Valera\ncon el apoyo del Ministerio de Cultura\nAño: 2024\nDuración: 50 minutos\nPaís: España\nIntervienen: Aquilina Gómez del Moral \, Ángela Hernán Colombrí\, Ana Ruiz de Ozaeta\, Anastasia Sanz Martín\, Alfonsa Valle García\, Cecilia García Herranz\, Clara Benito Pacheco\, Dionisia Isabel del Moral\, Eugenia García González\, Felisa García Nogal\, Isabel Martín Herranz\, Juana García Martín\, Juana Ramírez Ramírez\, Luis García Valera\, María García Encina\, María Julián Prados\n \nSINOPSIS\n \nLos testimonios de mujeres que fueron pastoras desde niñas en la Sierra Norte madrileña\, durante la posguerra\, se entrelazan en este emotivo documental con los de pastoras actuales\, en un viaje que nos descubre a una generación de mujeres rurales sabias\, conectadas con la tierra\, que fueron clave para el desarrollo de sus comunidades y cuyo trabajo y dedicación han permanecido invisibilizados por mucho tiempo.\nMujeres que no pudieron ir a la escuela pero tejieron una red de aprendizaje\, cuidado y apoyo mutuo que les ayudó a sobrevivir en unos tiempos difíciles\, en los que a las mujeres no se les permitía ni soñar con un futuro que no fuera el matrimonio.\nEl documental nos muestra además la importancia del papel de las mujeres en la ganadería extensiva en la actualidad y el empeño de una comunidad rural por rescatar del olvido una identidad cultural femenina propia y devolverles el lugar que merecen\, como acto de justicia social y para que los valores humanos\, medioambientales y sociales que ellas representan puedan servir de ejemplo en el presente.
URL:https://www.ayto-sotodelreal.es/event/proyeccion-y-coloquio-el-legado-de-las-pastoras/
LOCATION:CENTRO DE ARTE Y TURISMO (CAT)
CATEGORIES:Biblioteca,Cultura
ATTACH;FMTTYPE=image/jpeg:https://www.ayto-sotodelreal.es/wp-content/uploads/2025/09/El-legado-de-las-pastoras-14-nov.jpg
END:VEVENT
END:VCALENDAR