BEGIN:VCALENDAR
VERSION:2.0
PRODID:-//Ayuntamiento - Soto del Real - ECPv5.4.0.1//NONSGML v1.0//EN
CALSCALE:GREGORIAN
METHOD:PUBLISH
X-WR-CALNAME:Ayuntamiento - Soto del Real
X-ORIGINAL-URL:https://www.ayto-sotodelreal.es
X-WR-CALDESC:Eventos para Ayuntamiento - Soto del Real
BEGIN:VTIMEZONE
TZID:Europe/Paris
BEGIN:DAYLIGHT
TZOFFSETFROM:+0100
TZOFFSETTO:+0200
TZNAME:CEST
DTSTART:20250330T010000
END:DAYLIGHT
BEGIN:STANDARD
TZOFFSETFROM:+0200
TZOFFSETTO:+0100
TZNAME:CET
DTSTART:20251026T010000
END:STANDARD
END:VTIMEZONE
BEGIN:VEVENT
DTSTART;TZID=Europe/Paris:20251216T190000
DTEND;TZID=Europe/Paris:20251216T190000
DTSTAMP:20260425T164044
CREATED:20251103T120248Z
LAST-MODIFIED:20251103T120248Z
UID:47780-1765911600-1765911600@www.ayto-sotodelreal.es
SUMMARY:PRESENTACIÓN LIBRO: OBSESIONES Y JAZMINES. L. FDEZ. PINEDA
DESCRIPTION:
URL:https://www.ayto-sotodelreal.es/event/presentacion-libro-obsesiones-y-jazmines-l-fdez-pineda/
LOCATION:Centro Cultural Pedro de Lorenzo\, C/ Real\, nº6\, Soto del Real\, Madrid\, 28791\, España
ATTACH;FMTTYPE=image/jpeg:https://www.ayto-sotodelreal.es/wp-content/uploads/2025/11/Presentacion-Obsesiones-y-jazmines-16-dic.jpg
END:VEVENT
END:VCALENDAR