BEGIN:VCALENDAR
VERSION:2.0
PRODID:-//Ayuntamiento - Soto del Real - ECPv5.4.0.1//NONSGML v1.0//EN
CALSCALE:GREGORIAN
METHOD:PUBLISH
X-WR-CALNAME:Ayuntamiento - Soto del Real
X-ORIGINAL-URL:https://www.ayto-sotodelreal.es
X-WR-CALDESC:Eventos para Ayuntamiento - Soto del Real
BEGIN:VTIMEZONE
TZID:Europe/Paris
BEGIN:DAYLIGHT
TZOFFSETFROM:+0100
TZOFFSETTO:+0200
TZNAME:CEST
DTSTART:20250330T010000
END:DAYLIGHT
BEGIN:STANDARD
TZOFFSETFROM:+0200
TZOFFSETTO:+0100
TZNAME:CET
DTSTART:20251026T010000
END:STANDARD
END:VTIMEZONE
BEGIN:VEVENT
DTSTART;TZID=Europe/Paris:20251022T170000
DTEND;TZID=Europe/Paris:20251022T170000
DTSTAMP:20260425T124949
CREATED:20250915T105312Z
LAST-MODIFIED:20250916T111130Z
UID:46850-1761152400-1761152400@www.ayto-sotodelreal.es
SUMMARY:PREPARACIÓN PASAJE DEL TERROR
DESCRIPTION:DÍA: todos los miércoles de octubre; \nHORA: 17:00 h; \nLUGAR: Casa de la Juventud; \nINSCRIPCIÓN: En la casa de la juventud de manera presencal a través del correo: juventud@ayto-sotodelreal.es \nPÚBLICO: A partir de 13 años (nacidos 2012). \nCon este taller diseñaremos\, planificaremos y construiremos el pasaje del terror 2025. Forma parte del pasaje desde dentro y provoca una experiencia aterradora y memorable a los y las valientes que se atrevan a visitarnos.
URL:https://www.ayto-sotodelreal.es/event/preparacion-pasaje-del-terror-4/
LOCATION:Casa de la Juventud\, C/ Concejo\, 6\, Soto del Real \, Madrid\, 28791
CATEGORIES:Juventud
ATTACH;FMTTYPE=image/png:https://www.ayto-sotodelreal.es/wp-content/uploads/2025/09/CARTELERIA-2025-2026-1.png
END:VEVENT
END:VCALENDAR