BEGIN:VCALENDAR
VERSION:2.0
PRODID:-//Ayuntamiento - Soto del Real - ECPv5.4.0.1//NONSGML v1.0//EN
CALSCALE:GREGORIAN
METHOD:PUBLISH
X-WR-CALNAME:Ayuntamiento - Soto del Real
X-ORIGINAL-URL:https://www.ayto-sotodelreal.es
X-WR-CALDESC:Eventos para Ayuntamiento - Soto del Real
BEGIN:VTIMEZONE
TZID:Europe/Paris
BEGIN:DAYLIGHT
TZOFFSETFROM:+0100
TZOFFSETTO:+0200
TZNAME:CEST
DTSTART:20260329T010000
END:DAYLIGHT
BEGIN:STANDARD
TZOFFSETFROM:+0200
TZOFFSETTO:+0100
TZNAME:CET
DTSTART:20261025T010000
END:STANDARD
END:VTIMEZONE
BEGIN:VEVENT
DTSTART;TZID=Europe/Paris:20260711T200000
DTEND;TZID=Europe/Paris:20260711T200000
DTSTAMP:20260423T152659
CREATED:20260422T113508Z
LAST-MODIFIED:20260422T113508Z
UID:50172-1783800000-1783800000@www.ayto-sotodelreal.es
SUMMARY:PASEOS CON GLORIA
DESCRIPTION:
URL:https://www.ayto-sotodelreal.es/event/paseos-con-gloria-8/
LOCATION:Plaza de la Villa\, Plaza de la Villa\, Soto del Real \, madrid \, 28791
CATEGORIES:Cultura,Turismo
ATTACH;FMTTYPE=image/png:https://www.ayto-sotodelreal.es/wp-content/uploads/2026/04/PASEOS_JULIO_2026.png
END:VEVENT
END:VCALENDAR