BEGIN:VCALENDAR
VERSION:2.0
PRODID:-//Ayuntamiento - Soto del Real - ECPv5.4.0.1//NONSGML v1.0//EN
CALSCALE:GREGORIAN
METHOD:PUBLISH
X-WR-CALNAME:Ayuntamiento - Soto del Real
X-ORIGINAL-URL:https://www.ayto-sotodelreal.es
X-WR-CALDESC:Eventos para Ayuntamiento - Soto del Real
BEGIN:VTIMEZONE
TZID:Europe/Paris
BEGIN:DAYLIGHT
TZOFFSETFROM:+0100
TZOFFSETTO:+0200
TZNAME:CEST
DTSTART:20250330T010000
END:DAYLIGHT
BEGIN:STANDARD
TZOFFSETFROM:+0200
TZOFFSETTO:+0100
TZNAME:CET
DTSTART:20251026T010000
END:STANDARD
END:VTIMEZONE
BEGIN:VEVENT
DTSTART;TZID=Europe/Paris:20250712T200000
DTEND;TZID=Europe/Paris:20250712T200000
DTSTAMP:20260421T211725
CREATED:20250410T110546Z
LAST-MODIFIED:20250621T113216Z
UID:45012-1752350400-1752350400@www.ayto-sotodelreal.es
SUMMARY:PASEOS CON GLORIA
DESCRIPTION:DÍA: 12 julio; \nHORA: 20:00 h \nLUGAR: Oficina de Turismo; \nENTRADA: gratuita con inscripción obligatoria.  \nINSCRIPCIÓN: en el mail turismo@ayto-sotodelreal.es  \n 
URL:https://www.ayto-sotodelreal.es/event/paseos-con-gloria-6/
LOCATION:Plaza de la Villa\, Plaza de la Villa\, Soto del Real \, madrid \, 28791
CATEGORIES:Cultura,Turismo
ATTACH;FMTTYPE=image/png:https://www.ayto-sotodelreal.es/wp-content/uploads/2025/04/CARTEL-GLORIA-2025.png
END:VEVENT
END:VCALENDAR