BEGIN:VCALENDAR
VERSION:2.0
PRODID:-//Ayuntamiento - Soto del Real - ECPv5.4.0.1//NONSGML v1.0//EN
CALSCALE:GREGORIAN
METHOD:PUBLISH
X-WR-CALNAME:Ayuntamiento - Soto del Real
X-ORIGINAL-URL:https://www.ayto-sotodelreal.es
X-WR-CALDESC:Eventos para Ayuntamiento - Soto del Real
BEGIN:VTIMEZONE
TZID:Europe/Paris
BEGIN:DAYLIGHT
TZOFFSETFROM:+0100
TZOFFSETTO:+0200
TZNAME:CEST
DTSTART:20240331T010000
END:DAYLIGHT
BEGIN:STANDARD
TZOFFSETFROM:+0200
TZOFFSETTO:+0100
TZNAME:CET
DTSTART:20241027T010000
END:STANDARD
END:VTIMEZONE
BEGIN:VEVENT
DTSTART;TZID=Europe/Paris:20241031T180000
DTEND;TZID=Europe/Paris:20241031T180000
DTSTAMP:20260423T170801
CREATED:20240910T085502Z
LAST-MODIFIED:20241031T112404Z
UID:41892-1730397600-1730397600@www.ayto-sotodelreal.es
SUMMARY:CANCELADO - PASAJE DEL TERROR
DESCRIPTION:Se cancelan las celebraciones de Halloween en señal de respeto a las víctimas de la DANA.
URL:https://www.ayto-sotodelreal.es/event/pasaje-del-terror-6/
LOCATION:Casa de la Juventud\, C/ Concejo\, 6\, Soto del Real \, Madrid\, 28791
CATEGORIES:Fiestas,Juventud
ATTACH;FMTTYPE=image/png:https://www.ayto-sotodelreal.es/wp-content/uploads/2024/10/RRSS_INFO-AYTO-9.png
END:VEVENT
END:VCALENDAR