BEGIN:VCALENDAR
VERSION:2.0
PRODID:-//Ayuntamiento - Soto del Real - ECPv5.4.0.1//NONSGML v1.0//EN
CALSCALE:GREGORIAN
METHOD:PUBLISH
X-WR-CALNAME:Ayuntamiento - Soto del Real
X-ORIGINAL-URL:https://www.ayto-sotodelreal.es
X-WR-CALDESC:Eventos para Ayuntamiento - Soto del Real
BEGIN:VTIMEZONE
TZID:Europe/Paris
BEGIN:DAYLIGHT
TZOFFSETFROM:+0100
TZOFFSETTO:+0200
TZNAME:CEST
DTSTART:20210328T010000
END:DAYLIGHT
BEGIN:STANDARD
TZOFFSETFROM:+0200
TZOFFSETTO:+0100
TZNAME:CET
DTSTART:20211031T010000
END:STANDARD
END:VTIMEZONE
BEGIN:VEVENT
DTSTART;TZID=Europe/Paris:20210801T130000
DTEND;TZID=Europe/Paris:20210801T130000
DTSTAMP:20260425T143153
CREATED:20210710T095656Z
LAST-MODIFIED:20210710T095656Z
UID:28101-1627822800-1627822800@www.ayto-sotodelreal.es
SUMMARY:PASACALLES MUSICAL
DESCRIPTION:PASACALLES MUSICAL \nDomingo\, 1 de agosto. \nA partir 13:00 h. \nItinerante
URL:https://www.ayto-sotodelreal.es/event/pasacalles-musical-5/
END:VEVENT
END:VCALENDAR