BEGIN:VCALENDAR
VERSION:2.0
PRODID:-//Ayuntamiento - Soto del Real - ECPv5.4.0.1//NONSGML v1.0//EN
CALSCALE:GREGORIAN
METHOD:PUBLISH
X-WR-CALNAME:Ayuntamiento - Soto del Real
X-ORIGINAL-URL:https://www.ayto-sotodelreal.es
X-WR-CALDESC:Eventos para Ayuntamiento - Soto del Real
BEGIN:VTIMEZONE
TZID:Europe/Paris
BEGIN:DAYLIGHT
TZOFFSETFROM:+0100
TZOFFSETTO:+0200
TZNAME:CEST
DTSTART:20210328T010000
END:DAYLIGHT
BEGIN:STANDARD
TZOFFSETFROM:+0200
TZOFFSETTO:+0100
TZNAME:CET
DTSTART:20211031T010000
END:STANDARD
END:VTIMEZONE
BEGIN:VEVENT
DTSTART;TZID=Europe/Paris:20210724T210000
DTEND;TZID=Europe/Paris:20210724T210000
DTSTAMP:20260425T130850
CREATED:20210701T120811Z
LAST-MODIFIED:20210720T073044Z
UID:28061-1627160400-1627160400@www.ayto-sotodelreal.es
SUMMARY:PASACALLES MUSICAL: TUNA
DESCRIPTION:PASACALLES MUSICAL \nSábado  24 julio. A partir 21:00 h. Itinerante
URL:https://www.ayto-sotodelreal.es/event/pasacalles-musical-2/
CATEGORIES:Música
END:VEVENT
END:VCALENDAR