BEGIN:VCALENDAR
VERSION:2.0
PRODID:-//Ayuntamiento - Soto del Real - ECPv5.4.0.1//NONSGML v1.0//EN
CALSCALE:GREGORIAN
METHOD:PUBLISH
X-WR-CALNAME:Ayuntamiento - Soto del Real
X-ORIGINAL-URL:https://www.ayto-sotodelreal.es
X-WR-CALDESC:Eventos para Ayuntamiento - Soto del Real
BEGIN:VTIMEZONE
TZID:Europe/Paris
BEGIN:DAYLIGHT
TZOFFSETFROM:+0100
TZOFFSETTO:+0200
TZNAME:CEST
DTSTART:20250330T010000
END:DAYLIGHT
BEGIN:STANDARD
TZOFFSETFROM:+0200
TZOFFSETTO:+0100
TZNAME:CET
DTSTART:20251026T010000
END:STANDARD
END:VTIMEZONE
BEGIN:VEVENT
DTSTART;TZID=Europe/Paris:20250115T180000
DTEND;TZID=Europe/Paris:20250115T180000
DTSTAMP:20260423T153215
CREATED:20241214T111907Z
LAST-MODIFIED:20241215T090059Z
UID:43191-1736964000-1736964000@www.ayto-sotodelreal.es
SUMMARY:PACTO DE FAMILIAS: ¿CONTROLAS EL SMARTPHONE?
DESCRIPTION:
URL:https://www.ayto-sotodelreal.es/event/pacto-de-familias-controlas-el-smartphone/
LOCATION:IES Sierra de Guadarrama\, Avda. de Soto del Real\, s/n.\, Soto del Real\, Madrid\, 28791\, España
CATEGORIES:Educación,Familia,Juventud
ATTACH;FMTTYPE=image/jpeg:https://www.ayto-sotodelreal.es/wp-content/uploads/2024/12/15-ENE-PACTO-FAMILIAS-1-im├igenes-0-scaled.jpg
END:VEVENT
END:VCALENDAR