BEGIN:VCALENDAR
VERSION:2.0
PRODID:-//Ayuntamiento - Soto del Real - ECPv5.4.0.1//NONSGML v1.0//EN
CALSCALE:GREGORIAN
METHOD:PUBLISH
X-WR-CALNAME:Ayuntamiento - Soto del Real
X-ORIGINAL-URL:https://www.ayto-sotodelreal.es
X-WR-CALDESC:Eventos para Ayuntamiento - Soto del Real
BEGIN:VTIMEZONE
TZID:Europe/Paris
BEGIN:DAYLIGHT
TZOFFSETFROM:+0100
TZOFFSETTO:+0200
TZNAME:CEST
DTSTART:20210328T010000
END:DAYLIGHT
BEGIN:STANDARD
TZOFFSETFROM:+0200
TZOFFSETTO:+0100
TZNAME:CET
DTSTART:20211031T010000
END:STANDARD
END:VTIMEZONE
BEGIN:VEVENT
DTSTART;TZID=Europe/Paris:20210731T220000
DTEND;TZID=Europe/Paris:20210731T220000
DTSTAMP:20260424T165115
CREATED:20210701T114820Z
LAST-MODIFIED:20210727T102639Z
UID:28056-1627768800-1627768800@www.ayto-sotodelreal.es
SUMMARY:NOCHES DE BAILE
DESCRIPTION:Bailes de Salón con los monitores y miembros de la Asociación Cultural y Deportiva BUSTARVIEJOBAILA.\nPasodobles\, tango\, boleros\, rock\, etc. \nMascarilla obligatoria en la pista de baile.\nUso gel hidroalcohólico por parte monitores y participantes.\nControl de aforo en la pista de baile. \nLUGAR: Plaza de la Villa. \nHORA: 22:00 h.  \n 
URL:https://www.ayto-sotodelreal.es/event/noches-de-baile-17/
CATEGORIES:Música
END:VEVENT
END:VCALENDAR