BEGIN:VCALENDAR
VERSION:2.0
PRODID:-//Ayuntamiento - Soto del Real - ECPv5.4.0.1//NONSGML v1.0//EN
CALSCALE:GREGORIAN
METHOD:PUBLISH
X-WR-CALNAME:Ayuntamiento - Soto del Real
X-ORIGINAL-URL:https://www.ayto-sotodelreal.es
X-WR-CALDESC:Eventos para Ayuntamiento - Soto del Real
BEGIN:VTIMEZONE
TZID:Europe/Paris
BEGIN:DAYLIGHT
TZOFFSETFROM:+0100
TZOFFSETTO:+0200
TZNAME:CEST
DTSTART:20210328T010000
END:DAYLIGHT
BEGIN:STANDARD
TZOFFSETFROM:+0200
TZOFFSETTO:+0100
TZNAME:CET
DTSTART:20211031T010000
END:STANDARD
END:VTIMEZONE
BEGIN:VEVENT
DTSTART;TZID=Europe/Paris:20210724T210000
DTEND;TZID=Europe/Paris:20210724T210000
DTSTAMP:20260423T185229
CREATED:20210629T092656Z
LAST-MODIFIED:20210720T073421Z
UID:28018-1627160400-1627160400@www.ayto-sotodelreal.es
SUMMARY:NOCHES DE BAILE
DESCRIPTION:Bailes de Salón con los monitores y miembros de la Asociación Cultural y Deportiva BUSTARVIEJOBAILA.\nPasodobles\, tango\, boleros\, rock\, etc. \nMascarilla obligatoria en la pista de baile.\nUso gel hidroalcohólico por parte monitores y participantes.\nControl de aforo en la pista de baile. \nLUGAR: Plaza de la Villa. \nHORA: 21:00 h. 
URL:https://www.ayto-sotodelreal.es/event/noches-de-baile-16/
CATEGORIES:Cultura,Música
ATTACH;FMTTYPE=image/jpeg:https://www.ayto-sotodelreal.es/wp-content/uploads/2021/06/07.24-NOCHES-DE-BAILE.jpeg
END:VEVENT
END:VCALENDAR