BEGIN:VCALENDAR
VERSION:2.0
PRODID:-//Ayuntamiento - Soto del Real - ECPv5.4.0.1//NONSGML v1.0//EN
CALSCALE:GREGORIAN
METHOD:PUBLISH
X-WR-CALNAME:Ayuntamiento - Soto del Real
X-ORIGINAL-URL:https://www.ayto-sotodelreal.es
X-WR-CALDESC:Eventos para Ayuntamiento - Soto del Real
BEGIN:VTIMEZONE
TZID:Europe/Paris
BEGIN:DAYLIGHT
TZOFFSETFROM:+0100
TZOFFSETTO:+0200
TZNAME:CEST
DTSTART:20260329T010000
END:DAYLIGHT
BEGIN:STANDARD
TZOFFSETFROM:+0200
TZOFFSETTO:+0100
TZNAME:CET
DTSTART:20261025T010000
END:STANDARD
END:VTIMEZONE
BEGIN:VEVENT
DTSTART;TZID=Europe/Paris:20260728T200000
DTEND;TZID=Europe/Paris:20260728T200000
DTSTAMP:20260420T150707
CREATED:20260404T105430Z
LAST-MODIFIED:20260406T071726Z
UID:49738-1785268800-1785268800@www.ayto-sotodelreal.es
SUMMARY:NOCHE JOVEN EN TIENDAS DE CAMPAÑA CASA DE LA JUVENTUD E INFANCIA
DESCRIPTION:FECHA: 28 julio; \nHORA: 20:00 a 11:00 h del día siguiente; \nLUGAR: Refugio La Rodela. \n 
URL:https://www.ayto-sotodelreal.es/event/noche-joven-en-tiendas-de-campana-casa-de-la-juventud-e-infancia/
LOCATION:Refugio La Rodela\, Soto del Real\, Madrid\, 28791\, España
CATEGORIES:Juventud
ATTACH;FMTTYPE=image/png:https://www.ayto-sotodelreal.es/wp-content/uploads/2026/04/CARTELERIA-2025-2026-48.png
END:VEVENT
END:VCALENDAR