BEGIN:VCALENDAR
VERSION:2.0
PRODID:-//Ayuntamiento - Soto del Real - ECPv5.4.0.1//NONSGML v1.0//EN
CALSCALE:GREGORIAN
METHOD:PUBLISH
X-WR-CALNAME:Ayuntamiento - Soto del Real
X-ORIGINAL-URL:https://www.ayto-sotodelreal.es
X-WR-CALDESC:Eventos para Ayuntamiento - Soto del Real
BEGIN:VTIMEZONE
TZID:Europe/Paris
BEGIN:DAYLIGHT
TZOFFSETFROM:+0100
TZOFFSETTO:+0200
TZNAME:CEST
DTSTART:20190331T010000
END:DAYLIGHT
BEGIN:STANDARD
TZOFFSETFROM:+0200
TZOFFSETTO:+0100
TZNAME:CET
DTSTART:20191027T010000
END:STANDARD
END:VTIMEZONE
BEGIN:VEVENT
DTSTART;TZID=Europe/Paris:20191230T090000
DTEND;TZID=Europe/Paris:20191230T163000
DTSTAMP:20260420T134750
CREATED:20191104T132631Z
LAST-MODIFIED:20191127T110125Z
UID:21532-1577696400-1577723400@www.ayto-sotodelreal.es
SUMMARY:NO COLE EN EL COLE
DESCRIPTION:NO COLE EN EL COLE\n23\, 24\, 26\, 27\, 30 y 31 de diciembre\n2\, 3 y 7 de enero\n9:00 a 16:30\nCP Virgen del Rosario\nCasa de la Cultura de 9:00 a 14:00 y de 16:00 a 20:00 o por correo electrónico en: centrocultural@ayto-sotodelreal.es\nPrecio: desde 8\,00 € el día + 6\,00 € comedor\nPosibilidad de ampliar horario (desde las 7:30h) según demanda \nMás información aquí \nDescarga aquí la inscripción 
URL:https://www.ayto-sotodelreal.es/event/no-cole-en-el-cole-11/
CATEGORIES:Familia,Infantil
ATTACH;FMTTYPE=image/jpeg:https://www.ayto-sotodelreal.es/wp-content/uploads/2019/11/nocole.jpg
END:VEVENT
END:VCALENDAR