BEGIN:VCALENDAR
VERSION:2.0
PRODID:-//Ayuntamiento - Soto del Real - ECPv5.4.0.1//NONSGML v1.0//EN
CALSCALE:GREGORIAN
METHOD:PUBLISH
X-WR-CALNAME:Ayuntamiento - Soto del Real
X-ORIGINAL-URL:https://www.ayto-sotodelreal.es
X-WR-CALDESC:Eventos para Ayuntamiento - Soto del Real
BEGIN:VTIMEZONE
TZID:Europe/Paris
BEGIN:DAYLIGHT
TZOFFSETFROM:+0100
TZOFFSETTO:+0200
TZNAME:CEST
DTSTART:20190331T010000
END:DAYLIGHT
BEGIN:STANDARD
TZOFFSETFROM:+0200
TZOFFSETTO:+0100
TZNAME:CET
DTSTART:20191027T010000
END:STANDARD
END:VTIMEZONE
BEGIN:VEVENT
DTSTART;TZID=Europe/Paris:20191224T233000
DTEND;TZID=Europe/Paris:20191224T233000
DTSTAMP:20260420T165911
CREATED:20191106T115642Z
LAST-MODIFIED:20191106T115642Z
UID:21593-1577230200-1577230200@www.ayto-sotodelreal.es
SUMMARY:MISA DEL GALLO
DESCRIPTION:MISA DEL GALLO\nMartes\, 24 de Diciembre\n24:00 h.\nIglesia de la Inmaculada Concepción
URL:https://www.ayto-sotodelreal.es/event/misa-del-gallo-2/
END:VEVENT
END:VCALENDAR