BEGIN:VCALENDAR
VERSION:2.0
PRODID:-//Ayuntamiento - Soto del Real - ECPv5.4.0.1//NONSGML v1.0//EN
CALSCALE:GREGORIAN
METHOD:PUBLISH
X-WR-CALNAME:Ayuntamiento - Soto del Real
X-ORIGINAL-URL:https://www.ayto-sotodelreal.es
X-WR-CALDESC:Eventos para Ayuntamiento - Soto del Real
BEGIN:VTIMEZONE
TZID:Europe/Paris
BEGIN:DAYLIGHT
TZOFFSETFROM:+0100
TZOFFSETTO:+0200
TZNAME:CEST
DTSTART:20200329T010000
END:DAYLIGHT
BEGIN:STANDARD
TZOFFSETFROM:+0200
TZOFFSETTO:+0100
TZNAME:CET
DTSTART:20201025T010000
END:STANDARD
END:VTIMEZONE
BEGIN:VEVENT
DTSTART;TZID=Europe/Paris:20201220T100000
DTEND;TZID=Europe/Paris:20201221T150000
DTSTAMP:20260425T154522
CREATED:20201206T132904Z
LAST-MODIFIED:20201219T110038Z
UID:26206-1608458400-1608562800@www.ayto-sotodelreal.es
SUMMARY:MERCADO ARTESANO DE NAVIDAD
DESCRIPTION:Estas navidades\, además de poder acercarte al comercio local para hacer tus compras\, podrás tener la oportunidad de disfrutar de la mejor artesanía de la comarca en nuestro mercado artesano de navidad.  \nZona de celebración: Pza. de la Villa y calle de la Iglesia; \nHorario: domingo 20 de 10:00 a 15:00 h
URL:https://www.ayto-sotodelreal.es/event/mercado-artesano-de-navidad/
CATEGORIES:Cultura,Fiestas,Turismo
ATTACH;FMTTYPE=image/png:https://www.ayto-sotodelreal.es/wp-content/uploads/2020/12/Rojo-Crema-Navidad-Consumidor-Personal-Póster.png
END:VEVENT
END:VCALENDAR