BEGIN:VCALENDAR
VERSION:2.0
PRODID:-//Ayuntamiento - Soto del Real - ECPv5.4.0.1//NONSGML v1.0//EN
CALSCALE:GREGORIAN
METHOD:PUBLISH
X-WR-CALNAME:Ayuntamiento - Soto del Real
X-ORIGINAL-URL:https://www.ayto-sotodelreal.es
X-WR-CALDESC:Eventos para Ayuntamiento - Soto del Real
BEGIN:VTIMEZONE
TZID:Europe/Paris
BEGIN:DAYLIGHT
TZOFFSETFROM:+0100
TZOFFSETTO:+0200
TZNAME:CEST
DTSTART:20200329T010000
END:DAYLIGHT
BEGIN:STANDARD
TZOFFSETFROM:+0200
TZOFFSETTO:+0100
TZNAME:CET
DTSTART:20201025T010000
END:STANDARD
END:VTIMEZONE
BEGIN:VEVENT
DTSTART;VALUE=DATE:20201205
DTEND;VALUE=DATE:20201228
DTSTAMP:20260425T131629
CREATED:20201206T133205Z
LAST-MODIFIED:20201206T133205Z
UID:26208-1607126400-1609113599@www.ayto-sotodelreal.es
SUMMARY:MERCADO ARTESANO DE ACARTE
DESCRIPTION:Estas navidades\, además de poder acercarte al comercio local para hacer tus compras\, podrás tener la oportunidad de disfrutar de la mejor artesanía local en esta muestra de artesanía.  \nLugar de celebración: Sala de exposiciones de la Casa de la Cultura; \nHorario: De lunes a domingo (domingos tarde cerrado) de 10:30 a 14:00 h y de 17:00 a 20:30 h.
URL:https://www.ayto-sotodelreal.es/event/mercado-artesano-de-acarte/
CATEGORIES:Cultura,Fiestas,Turismo
ATTACH;FMTTYPE=image/jpeg:https://www.ayto-sotodelreal.es/wp-content/uploads/2020/12/WhatsApp-Image-2020-12-03-at-22.51.52.jpeg
END:VEVENT
END:VCALENDAR