BEGIN:VCALENDAR
VERSION:2.0
PRODID:-//Ayuntamiento - Soto del Real - ECPv5.4.0.1//NONSGML v1.0//EN
CALSCALE:GREGORIAN
METHOD:PUBLISH
X-WR-CALNAME:Ayuntamiento - Soto del Real
X-ORIGINAL-URL:https://www.ayto-sotodelreal.es
X-WR-CALDESC:Eventos para Ayuntamiento - Soto del Real
BEGIN:VTIMEZONE
TZID:Europe/Paris
BEGIN:DAYLIGHT
TZOFFSETFROM:+0100
TZOFFSETTO:+0200
TZNAME:CEST
DTSTART:20240331T010000
END:DAYLIGHT
BEGIN:STANDARD
TZOFFSETFROM:+0200
TZOFFSETTO:+0100
TZNAME:CET
DTSTART:20241027T010000
END:STANDARD
END:VTIMEZONE
BEGIN:VEVENT
DTSTART;TZID=Europe/Paris:20240721T080000
DTEND;TZID=Europe/Paris:20240721T170000
DTSTAMP:20260423T185159
CREATED:20240228T084734Z
LAST-MODIFIED:20240228T084734Z
UID:39901-1721548800-1721581200@www.ayto-sotodelreal.es
SUMMARY:MERCADO ARTESANO
DESCRIPTION:
URL:https://www.ayto-sotodelreal.es/event/mercado-artesano-38/
CATEGORIES:Turismo
ATTACH;FMTTYPE=image/png:https://www.ayto-sotodelreal.es/wp-content/uploads/2024/02/MERCADO_2T_2024.png
END:VEVENT
END:VCALENDAR