BEGIN:VCALENDAR
VERSION:2.0
PRODID:-//Ayuntamiento - Soto del Real - ECPv5.4.0.1//NONSGML v1.0//EN
CALSCALE:GREGORIAN
METHOD:PUBLISH
X-WR-CALNAME:Ayuntamiento - Soto del Real
X-ORIGINAL-URL:https://www.ayto-sotodelreal.es
X-WR-CALDESC:Eventos para Ayuntamiento - Soto del Real
BEGIN:VTIMEZONE
TZID:Europe/Paris
BEGIN:DAYLIGHT
TZOFFSETFROM:+0100
TZOFFSETTO:+0200
TZNAME:CEST
DTSTART:20240331T010000
END:DAYLIGHT
BEGIN:STANDARD
TZOFFSETFROM:+0200
TZOFFSETTO:+0100
TZNAME:CET
DTSTART:20241027T010000
END:STANDARD
END:VTIMEZONE
BEGIN:VEVENT
DTSTART;TZID=Europe/Paris:20241128T183000
DTEND;TZID=Europe/Paris:20241128T183000
DTSTAMP:20260421T193931
CREATED:20241121T152800Z
LAST-MODIFIED:20241121T152800Z
UID:43005-1732818600-1732818600@www.ayto-sotodelreal.es
SUMMARY:MASTER CLASS FLAMENCO
DESCRIPTION:¡No te pierdas una oportunidad única para disfrutar y aprender de la mano del gran Emilio Rivas! \nFecha: Jueves\, 28 de noviembre\nHora: 18:30 a 20:30 h\nLugar: CAT  \nActividad gratuita y sin inscripción previa.\nEs una clase abierta a alumnos de flamenco y también para quienes quieran probar y disfrutar de este apasionante arte. \nMás información en: centrocultural@ayto-sotodelreal.es
URL:https://www.ayto-sotodelreal.es/event/master-class-flamenco/
LOCATION:CENTRO DE ARTE Y TURISMO (CAT)
CATEGORIES:Centro de Arte y Turismo,Cultura,Deportes,Municipio
ATTACH;FMTTYPE=image/jpeg:https://www.ayto-sotodelreal.es/wp-content/uploads/2024/11/23.11.24_Masterclass-flamenco.jpg
END:VEVENT
END:VCALENDAR