BEGIN:VCALENDAR
VERSION:2.0
PRODID:-//Ayuntamiento - Soto del Real - ECPv5.4.0.1//NONSGML v1.0//EN
CALSCALE:GREGORIAN
METHOD:PUBLISH
X-WR-CALNAME:Ayuntamiento - Soto del Real
X-ORIGINAL-URL:https://www.ayto-sotodelreal.es
X-WR-CALDESC:Eventos para Ayuntamiento - Soto del Real
BEGIN:VTIMEZONE
TZID:Europe/Paris
BEGIN:DAYLIGHT
TZOFFSETFROM:+0100
TZOFFSETTO:+0200
TZNAME:CEST
DTSTART:20210328T010000
END:DAYLIGHT
BEGIN:STANDARD
TZOFFSETFROM:+0200
TZOFFSETTO:+0100
TZNAME:CET
DTSTART:20211031T010000
END:STANDARD
END:VTIMEZONE
BEGIN:VEVENT
DTSTART;TZID=Europe/Paris:20210807T090000
DTEND;TZID=Europe/Paris:20210807T090000
DTSTAMP:20260425T160118
CREATED:20210719T114612Z
LAST-MODIFIED:20210729T103229Z
UID:28157-1628326800-1628326800@www.ayto-sotodelreal.es
SUMMARY:Master Class de Yoga
DESCRIPTION:Saludos al Sol en el Municipio de Soto del Real \nEspecial Master Class de Yoga\, despierta cuerpo y alma a través del yoga. \nCLUB CONECTA-T a TI \n7 y 8 de agosto en la pradera de la Piscina Municipal de Verano\nDe 9:00 a 10:30 h. \nTraer esterilla de yoga
URL:https://www.ayto-sotodelreal.es/event/master-class-de-yoga-5/
CATEGORIES:Deportes
ATTACH;FMTTYPE=image/png:https://www.ayto-sotodelreal.es/wp-content/uploads/2021/07/FESTIVAL-DE-YOGA-1.png
END:VEVENT
END:VCALENDAR