BEGIN:VCALENDAR
VERSION:2.0
PRODID:-//Ayuntamiento - Soto del Real - ECPv5.4.0.1//NONSGML v1.0//EN
CALSCALE:GREGORIAN
METHOD:PUBLISH
X-WR-CALNAME:Ayuntamiento - Soto del Real
X-ORIGINAL-URL:https://www.ayto-sotodelreal.es
X-WR-CALDESC:Eventos para Ayuntamiento - Soto del Real
BEGIN:VTIMEZONE
TZID:Europe/Paris
BEGIN:DAYLIGHT
TZOFFSETFROM:+0100
TZOFFSETTO:+0200
TZNAME:CEST
DTSTART:20240331T010000
END:DAYLIGHT
BEGIN:STANDARD
TZOFFSETFROM:+0200
TZOFFSETTO:+0100
TZNAME:CET
DTSTART:20241027T010000
END:STANDARD
END:VTIMEZONE
BEGIN:VEVENT
DTSTART;TZID=Europe/Paris:20241223T110000
DTEND;TZID=Europe/Paris:20241223T110000
DTSTAMP:20260421T164542
CREATED:20241014T062058Z
LAST-MODIFIED:20241109T125327Z
UID:42362-1734951600-1734951600@www.ayto-sotodelreal.es
SUMMARY:MÁS MADERA. TALLER PRIMERA INFANCIA
DESCRIPTION:DÍA: 23 diciembre; \nHORA: 11:00 h; \nLUGAR: Sala Miraflores. Complejo Deportivo Prado Real; \nPÚBLICO: A partir de 2 años y su papá o mamá; \nINSCRIPCIONES: Centro Cultural – Inscripción previa (20 personas máx.); \nPRECIO: 7€ pareja. \nUn espacio donde conectar con el juego en un ambiente preparado para ello. Un rincón amable\, cuidado\, estético donde jugar con madera. Tendremos varias cajas llenas de distintas piezas de madera para jugar a conectarlas\,\na hacer torres\, caminos o poblados. \nY con el mensaje de reciclar\, de darle una segunda oportunidad a piezas de deshecho ¡Que nos darán mucho juego! \nForma parte de las propuestas sensoriales de JUEGO con materiales no estructurados\, reciclados\, naturales.\nPara que el JUEGO y la EXPRESIÓN pueda surgir en un ambiente cuidado\, estético. Y en la Infancia\, facilitando con ello recuperar los momentos de jugar y estar en familia de manera cálida\, creativa y respetuosa.\nAsombro\, juego\, experimentación\, creatividad\, sonrisas… Y el resto\, lo hará la magia de la Infancia con su juego. 
URL:https://www.ayto-sotodelreal.es/event/mas-madera-taller-primera-infancia/
LOCATION:Centro Cultural Pedro de Lorenzo\, C/ Real\, nº6\, Soto del Real\, Madrid\, 28791\, España
CATEGORIES:Cultura,Infantil
ATTACH;FMTTYPE=image/jpeg:https://www.ayto-sotodelreal.es/wp-content/uploads/2024/10/12.23-MAS-MADERA-PRIMERA-INFANCIA.jpg
END:VEVENT
END:VCALENDAR