BEGIN:VCALENDAR
VERSION:2.0
PRODID:-//Ayuntamiento - Soto del Real - ECPv5.4.0.1//NONSGML v1.0//EN
CALSCALE:GREGORIAN
METHOD:PUBLISH
X-WR-CALNAME:Ayuntamiento - Soto del Real
X-ORIGINAL-URL:https://www.ayto-sotodelreal.es
X-WR-CALDESC:Eventos para Ayuntamiento - Soto del Real
BEGIN:VTIMEZONE
TZID:Europe/Paris
BEGIN:DAYLIGHT
TZOFFSETFROM:+0100
TZOFFSETTO:+0200
TZNAME:CEST
DTSTART:20190331T010000
END:DAYLIGHT
BEGIN:STANDARD
TZOFFSETFROM:+0200
TZOFFSETTO:+0100
TZNAME:CET
DTSTART:20191027T010000
END:STANDARD
END:VTIMEZONE
BEGIN:VEVENT
DTSTART;TZID=Europe/Paris:20190216T083000
DTEND;TZID=Europe/Paris:20190216T170000
DTSTAMP:20260422T102820
CREATED:20190104T133128Z
LAST-MODIFIED:20190104T133128Z
UID:16709-1550305800-1550336400@www.ayto-sotodelreal.es
SUMMARY:LXXXII SALIDA CLIMÁTICA
DESCRIPTION:LXXXII SALIDA CLIMÁTICA\nOrganizan Asociación Amigos de la Tierra\ny Asociación Chozas de la Sierra\n16 de febrero\, de 08:30 a 17:00 h\nPto. de la Morcuera a Pto. de Canencia\n(por la Perdiguera). Sierra de Guadarrama\nPara cerrar el año y descansar del ajetreo\nde las fiestas de Navidad\, estas dos rutas\nse presentan para conocer mejor el entorno\nmágico de la Pedriza. Esta vez iremos en\ncoches compartidos y comeremos juntos\npara despedir el año con alegría.\nINFORMACIÓN:\nwww.amigosdelatierramadrid.org\ny www.chozasdelasierra.org
URL:https://www.ayto-sotodelreal.es/event/lxxxii-salida-climatica/
END:VEVENT
END:VCALENDAR