BEGIN:VCALENDAR
VERSION:2.0
PRODID:-//Ayuntamiento - Soto del Real - ECPv5.4.0.1//NONSGML v1.0//EN
CALSCALE:GREGORIAN
METHOD:PUBLISH
X-WR-CALNAME:Ayuntamiento - Soto del Real
X-ORIGINAL-URL:https://www.ayto-sotodelreal.es
X-WR-CALDESC:Eventos para Ayuntamiento - Soto del Real
BEGIN:VTIMEZONE
TZID:Europe/Paris
BEGIN:DAYLIGHT
TZOFFSETFROM:+0100
TZOFFSETTO:+0200
TZNAME:CEST
DTSTART:20250330T010000
END:DAYLIGHT
BEGIN:STANDARD
TZOFFSETFROM:+0200
TZOFFSETTO:+0100
TZNAME:CET
DTSTART:20251026T010000
END:STANDARD
END:VTIMEZONE
BEGIN:VEVENT
DTSTART;TZID=Europe/Paris:20251210T100000
DTEND;TZID=Europe/Paris:20251211T140000
DTSTAMP:20260425T150217
CREATED:20250930T065930Z
LAST-MODIFIED:20251115T130657Z
UID:47190-1765360800-1765461600@www.ayto-sotodelreal.es
SUMMARY:LECTURA TEATRALIZADA PARA EL ACOMPAÑAMIENTO
DESCRIPTION:“Lectura Teatralizada para el acompañamiento en situaciones de Soledad No Deseada”. \n📅 Cuándo: 10 y 11 de diciembre de 2025🕙 Horario: 10:00 a 14:00 h📍 Dónde: Centro Cultural \nEl objetivo es  dar a las personas voluntarias y vecin@s interesad@s herramientas prácticas para usar la lectura como medio de acompañamiento y apoyo emocional.
URL:https://www.ayto-sotodelreal.es/event/lectura-teatralizada-para-el-acompanamiento/
LOCATION:Centro Cultural Pedro de Lorenzo\, C/ Real\, nº6\, Soto del Real\, Madrid\, 28791\, España
CATEGORIES:Cultura,Mayores
ATTACH;FMTTYPE=image/jpeg:https://www.ayto-sotodelreal.es/wp-content/uploads/2025/09/RRSS-Formacion-lectura-teatralizada-SND-PIV_page-0001.jpg
END:VEVENT
END:VCALENDAR