BEGIN:VCALENDAR
VERSION:2.0
PRODID:-//Ayuntamiento - Soto del Real - ECPv5.4.0.1//NONSGML v1.0//EN
CALSCALE:GREGORIAN
METHOD:PUBLISH
X-WR-CALNAME:Ayuntamiento - Soto del Real
X-ORIGINAL-URL:https://www.ayto-sotodelreal.es
X-WR-CALDESC:Eventos para Ayuntamiento - Soto del Real
BEGIN:VTIMEZONE
TZID:Europe/Paris
BEGIN:DAYLIGHT
TZOFFSETFROM:+0100
TZOFFSETTO:+0200
TZNAME:CEST
DTSTART:20260329T010000
END:DAYLIGHT
BEGIN:STANDARD
TZOFFSETFROM:+0200
TZOFFSETTO:+0100
TZNAME:CET
DTSTART:20261025T010000
END:STANDARD
END:VTIMEZONE
BEGIN:VEVENT
DTSTART;TZID=Europe/Paris:20260128T183000
DTEND;TZID=Europe/Paris:20260128T193000
DTSTAMP:20260425T132003
CREATED:20251230T122742Z
LAST-MODIFIED:20260116T092634Z
UID:48254-1769625000-1769628600@www.ayto-sotodelreal.es
SUMMARY:LECTURA TEATRAL C.MAYORES
DESCRIPTION:Día: 28 enero \nHora: 18.30-19.30 h \nLugar: Centro de Mayores
URL:https://www.ayto-sotodelreal.es/event/lectura-teatral-c-mayores-7/
CATEGORIES:Mayores
ATTACH;FMTTYPE=image/jpeg:https://www.ayto-sotodelreal.es/wp-content/uploads/2025/12/Enero-2026.jpeg
END:VEVENT
END:VCALENDAR