BEGIN:VCALENDAR
VERSION:2.0
PRODID:-//Ayuntamiento - Soto del Real - ECPv5.4.0.1//NONSGML v1.0//EN
CALSCALE:GREGORIAN
METHOD:PUBLISH
X-WR-CALNAME:Ayuntamiento - Soto del Real
X-ORIGINAL-URL:https://www.ayto-sotodelreal.es
X-WR-CALDESC:Eventos para Ayuntamiento - Soto del Real
BEGIN:VTIMEZONE
TZID:Europe/Paris
BEGIN:DAYLIGHT
TZOFFSETFROM:+0100
TZOFFSETTO:+0200
TZNAME:CEST
DTSTART:20210328T010000
END:DAYLIGHT
BEGIN:STANDARD
TZOFFSETFROM:+0200
TZOFFSETTO:+0100
TZNAME:CET
DTSTART:20211031T010000
END:STANDARD
END:VTIMEZONE
BEGIN:VEVENT
DTSTART;TZID=Europe/Paris:20211127T120000
DTEND;TZID=Europe/Paris:20211127T120000
DTSTAMP:20260424T101837
CREATED:20211123T105626Z
LAST-MODIFIED:20211123T105626Z
UID:29441-1638014400-1638014400@www.ayto-sotodelreal.es
SUMMARY:LECTURA DE MANIFIESTO Y MESA INFORMATIVA POR EL DÍA INTERNACIONAL POR LA ELIMINACIÓN DE LA VIOLENCIA CONTRA LAS MUJERES
DESCRIPTION:
URL:https://www.ayto-sotodelreal.es/event/lectura-de-manifiesto-y-mesa-informativa-por-el-dia-internacional-por-la-eliminacion-de-la-violencia-contra-las-mujeres/
CATEGORIES:Igualdad
ATTACH;FMTTYPE=image/jpeg:https://www.ayto-sotodelreal.es/wp-content/uploads/2021/11/257279094_635887180761679_7854337304518462721_n.jpg
END:VEVENT
END:VCALENDAR