BEGIN:VCALENDAR
VERSION:2.0
PRODID:-//Ayuntamiento - Soto del Real - ECPv5.4.0.1//NONSGML v1.0//EN
CALSCALE:GREGORIAN
METHOD:PUBLISH
X-WR-CALNAME:Ayuntamiento - Soto del Real
X-ORIGINAL-URL:https://www.ayto-sotodelreal.es
X-WR-CALDESC:Eventos para Ayuntamiento - Soto del Real
BEGIN:VTIMEZONE
TZID:Europe/Paris
BEGIN:DAYLIGHT
TZOFFSETFROM:+0100
TZOFFSETTO:+0200
TZNAME:CEST
DTSTART:20260329T010000
END:DAYLIGHT
BEGIN:STANDARD
TZOFFSETFROM:+0200
TZOFFSETTO:+0100
TZNAME:CET
DTSTART:20261025T010000
END:STANDARD
END:VTIMEZONE
BEGIN:VEVENT
DTSTART;TZID=Europe/Paris:20260730T190000
DTEND;TZID=Europe/Paris:20260730T235900
DTSTAMP:20260420T133540
CREATED:20260405T094626Z
LAST-MODIFIED:20260405T094626Z
UID:49871-1785438000-1785455940@www.ayto-sotodelreal.es
SUMMARY:LA PREVIA DE PEÑAS
DESCRIPTION:FECHA: 30 julio; \nHORARIO: \n19:00 a 21:00 h.- TARDEO PREVIA DE PEÑAS (Zoco)\n21:00h. BATUKADA YELMO BLOKO\n(Zoco a Morales)\n22:00 h BINGO SOLIDARIO ELCYD (Morales)\n23:00 h ENTREGA LECHERA DE FIESTAS+PREGÓN DE PEÑAS LOS NIÑOS DEL KIKO\n23:30 h CONCIERTO ENREDO GLOBENS; \nLUGAR: Zoco y Los Morales; \nENTRADA: GRATUITA HASTA COMPLETAR AFORO.  \n 
URL:https://www.ayto-sotodelreal.es/event/la-previa-de-penas/
LOCATION:Parque Los Morales\, C/ Real \, Soto del Real \, Madrid\, 28791
CATEGORIES:Cultura,Fiestas,Música
END:VEVENT
END:VCALENDAR