BEGIN:VCALENDAR
VERSION:2.0
PRODID:-//Ayuntamiento - Soto del Real - ECPv5.4.0.1//NONSGML v1.0//EN
CALSCALE:GREGORIAN
METHOD:PUBLISH
X-WR-CALNAME:Ayuntamiento - Soto del Real
X-ORIGINAL-URL:https://www.ayto-sotodelreal.es
X-WR-CALDESC:Eventos para Ayuntamiento - Soto del Real
BEGIN:VTIMEZONE
TZID:Europe/Paris
BEGIN:DAYLIGHT
TZOFFSETFROM:+0100
TZOFFSETTO:+0200
TZNAME:CEST
DTSTART:20240331T010000
END:DAYLIGHT
BEGIN:STANDARD
TZOFFSETFROM:+0200
TZOFFSETTO:+0100
TZNAME:CET
DTSTART:20241027T010000
END:STANDARD
END:VTIMEZONE
BEGIN:VEVENT
DTSTART;TZID=Europe/Paris:20241210T173000
DTEND;TZID=Europe/Paris:20241210T193000
DTSTAMP:20260425T161501
CREATED:20240903T093915Z
LAST-MODIFIED:20241126T103903Z
UID:41749-1733851800-1733859000@www.ayto-sotodelreal.es
SUMMARY:LA GENERACIÓN Z Y LOS RIESGOS DE INTERNET
DESCRIPTION:FECHA: 3 y 10 de diciembre;  \nHORA: 17:30-19:30 h; \nLUGAR:  Centro cultural; \nPRECIO: inscripción gratuita y obligatoria en el Centro Cultural;  \nTIPO DE ACTIVIDAD: TALLER. \n✍️ Apúntate a este curso en modalidad mixta sobre la generación Z\, su uso de la tecnología y los riesgos a los que se exponen al navegar por internet.\n💡 Conoce a la generación Z\, sus características y su relación con la tecnología y las redes sociales. Analiza los efectos de su uso excesivo y los factores que influyen en conductas de riesgo\, como la presión social. Aprende estrategias sencillas de protección y seguridad en entornos digitales.\n¿Sabes qué es la generación Z?\n¿Tienes en tu entorno gente de esa generación?\n¿Te preocupan los riesgos a los que se ven expuestos?\n¿Quieres entender mejor a esta generación y ayudarles a prevenir problemas?\n🎯 Los objetivos de este curso son:\nSaber qué es la generación Z\, sus características y quiénes la componen.\nIdentificar las posibles amenazas de internet para adolescentes y jóvenes.\nExplicar los perjuicios del uso abusivo de pantallas.\nComprender la importancia de un uso controlado de internet.
URL:https://www.ayto-sotodelreal.es/event/la-generacion-z-y-los-riesgos-de-internet-2/
LOCATION:Centro Cultural Pedro de Lorenzo\, C/ Real\, nº6\, Soto del Real\, Madrid\, 28791\, España
CATEGORIES:Cultura,Familia,Juventud
ATTACH;FMTTYPE=image/jpeg:https://www.ayto-sotodelreal.es/wp-content/uploads/2024/09/12.-3-y-10-Generacion-Z.jpg
END:VEVENT
END:VCALENDAR