BEGIN:VCALENDAR
VERSION:2.0
PRODID:-//Ayuntamiento - Soto del Real - ECPv5.4.0.1//NONSGML v1.0//EN
CALSCALE:GREGORIAN
METHOD:PUBLISH
X-WR-CALNAME:Ayuntamiento - Soto del Real
X-ORIGINAL-URL:https://www.ayto-sotodelreal.es
X-WR-CALDESC:Eventos para Ayuntamiento - Soto del Real
BEGIN:VTIMEZONE
TZID:Europe/Paris
BEGIN:DAYLIGHT
TZOFFSETFROM:+0100
TZOFFSETTO:+0200
TZNAME:CEST
DTSTART:20260329T010000
END:DAYLIGHT
BEGIN:STANDARD
TZOFFSETFROM:+0200
TZOFFSETTO:+0100
TZNAME:CET
DTSTART:20261025T010000
END:STANDARD
END:VTIMEZONE
BEGIN:VEVENT
DTSTART;VALUE=DATE:20260622
DTEND;VALUE=DATE:20260623
DTSTAMP:20260425T131441
CREATED:20260404T112834Z
LAST-MODIFIED:20260404T112834Z
UID:49753-1782086400-1782172799@www.ayto-sotodelreal.es
SUMMARY:INTENSIVOS DE VERANO
DESCRIPTION:FECHA: 22 de junio a 28 de agosto;  \nHORA: por definir; \nLUGAR: Complejo deportivo Prado Real (Piscina  cubierta); \nINFO: 918477448 o infopiscina@ayto-sotodelreal.es 
URL:https://www.ayto-sotodelreal.es/event/intensivos-de-verano/
LOCATION:Complejo deportivo Prado Real\, C/ La Orden\, Soto del Real \, madrid \, 28791
CATEGORIES:Deportes
END:VEVENT
END:VCALENDAR