BEGIN:VCALENDAR
VERSION:2.0
PRODID:-//Ayuntamiento - Soto del Real - ECPv5.4.0.1//NONSGML v1.0//EN
CALSCALE:GREGORIAN
METHOD:PUBLISH
X-WR-CALNAME:Ayuntamiento - Soto del Real
X-ORIGINAL-URL:https://www.ayto-sotodelreal.es
X-WR-CALDESC:Eventos para Ayuntamiento - Soto del Real
BEGIN:VTIMEZONE
TZID:Europe/Paris
BEGIN:DAYLIGHT
TZOFFSETFROM:+0100
TZOFFSETTO:+0200
TZNAME:CEST
DTSTART:20250330T010000
END:DAYLIGHT
BEGIN:STANDARD
TZOFFSETFROM:+0200
TZOFFSETTO:+0100
TZNAME:CET
DTSTART:20251026T010000
END:STANDARD
END:VTIMEZONE
BEGIN:VEVENT
DTSTART;VALUE=DATE:20251205
DTEND;VALUE=DATE:20251206
DTSTAMP:20260425T161209
CREATED:20251027T121543Z
LAST-MODIFIED:20251027T121543Z
UID:47672-1764892800-1764979199@www.ayto-sotodelreal.es
SUMMARY:INICIO CONCURSO ESCAPARTES NAVIDEÑOS 2025/26
DESCRIPTION:DÍAS: del 5 de diciembre al 6 de enero;  \nHORA: ver establecimientos participantes; \nLUGAR: Establecimientos participantes. \n  \n 
URL:https://www.ayto-sotodelreal.es/event/inicio-concurso-escapartes-navidenos-2025-26/
LOCATION:Soto del Real\, Soto del Real 
CATEGORIES:Fiestas,Turismo
END:VEVENT
END:VCALENDAR