BEGIN:VCALENDAR
VERSION:2.0
PRODID:-//Ayuntamiento - Soto del Real - ECPv5.4.0.1//NONSGML v1.0//EN
CALSCALE:GREGORIAN
METHOD:PUBLISH
X-WR-CALNAME:Ayuntamiento - Soto del Real
X-ORIGINAL-URL:https://www.ayto-sotodelreal.es
X-WR-CALDESC:Eventos para Ayuntamiento - Soto del Real
BEGIN:VTIMEZONE
TZID:Europe/Paris
BEGIN:DAYLIGHT
TZOFFSETFROM:+0100
TZOFFSETTO:+0200
TZNAME:CEST
DTSTART:20250330T010000
END:DAYLIGHT
BEGIN:STANDARD
TZOFFSETFROM:+0200
TZOFFSETTO:+0100
TZNAME:CET
DTSTART:20251026T010000
END:STANDARD
END:VTIMEZONE
BEGIN:VEVENT
DTSTART;TZID=Europe/Paris:20251025T193000
DTEND;TZID=Europe/Paris:20251025T193000
DTSTAMP:20260421T215924
CREATED:20250910T121512Z
LAST-MODIFIED:20251004T120048Z
UID:46684-1761420600-1761420600@www.ayto-sotodelreal.es
SUMMARY:II FESTIVAL DE MÚSICA CORAL VIRGEN DEL ROSARIO
DESCRIPTION:II FESTIVAL DE MÚSICA CORAL VIRGEN DEL ROSARIO\nLATIDOS DE ESPERANZA\n \n \nFECHA: 25/10/2025;\nHORA: 19:30 h;\nLUGAR:  Iglesia de la Inmaculada Concepción. \n\nEsperanza Torrejón (voz)\nManuel Mercader & Juan Perea (guitarra)\nPrograma Título: Latidos de Esperanza
URL:https://www.ayto-sotodelreal.es/event/ii-festival-de-musica-coral-virgen-del-rosario-2/
LOCATION:Iglesia Inmaculada Concepción\, C/ Iglesia\, Soto del Real \, Madrid\, 28791
CATEGORIES:Cultura,Música,Turismo
ATTACH;FMTTYPE=image/jpeg:https://www.ayto-sotodelreal.es/wp-content/uploads/2025/09/LATIDOS-DE-ESPERANZA.jpg
END:VEVENT
END:VCALENDAR