BEGIN:VCALENDAR
VERSION:2.0
PRODID:-//Ayuntamiento - Soto del Real - ECPv5.4.0.1//NONSGML v1.0//EN
CALSCALE:GREGORIAN
METHOD:PUBLISH
X-WR-CALNAME:Ayuntamiento - Soto del Real
X-ORIGINAL-URL:https://www.ayto-sotodelreal.es
X-WR-CALDESC:Eventos para Ayuntamiento - Soto del Real
BEGIN:VTIMEZONE
TZID:Europe/Paris
BEGIN:DAYLIGHT
TZOFFSETFROM:+0100
TZOFFSETTO:+0200
TZNAME:CEST
DTSTART:20220327T010000
END:DAYLIGHT
BEGIN:STANDARD
TZOFFSETFROM:+0200
TZOFFSETTO:+0100
TZNAME:CET
DTSTART:20221030T010000
END:STANDARD
END:VTIMEZONE
BEGIN:VEVENT
DTSTART;TZID=Europe/Paris:20220702T213000
DTEND;TZID=Europe/Paris:20220702T213000
DTSTAMP:20260420T145057
CREATED:20220506T103619Z
LAST-MODIFIED:20220630T071946Z
UID:31521-1656797400-1656797400@www.ayto-sotodelreal.es
SUMMARY:FESTIVAL LA SIERRA MUSIC FEST
DESCRIPTION:Inauguración FESTIVAL LA SIERRA MUSIC FEST \nAtlantida Chambers Orchestra – Orquesta residente de Soto del Real \n\nInauguración  II Festival La Sierra Music Fest\n \nSábado 2 Julio – 21:30 h.\n\nATLÁNTIDA CHAMBER ORCHESTRA\norquesta residente de Soto del Real\, formada por jóvenes músicos de altísimo nivel musical\nDirector: Manuel Tévar\n \nFormada por una plantilla titular de 40 músicos\, la Atlantida Chamber Orchestra nace en el año 2015\, fundada por su director artístico y musical Manuel Tévar. La agrupación nace como un proyecto formativo en clave de excelencia y hoy se reconoce como una de las orquestas de cámara más prominentes y prometedoras en nuestro país. \n \nPrograma:\nW.A. Mozart – La Flauta Mágica \nA. Dvorak Sinfonía nº 9 “Nuevo Mundo”\n \n\nExplanada del CAT\n\nSoto del Real\n  \nEntrada: 10 €  mutickeros.com
URL:https://www.ayto-sotodelreal.es/event/festival-la-sierra-music-fest/
LOCATION:CENTRO DE ARTE Y TURISMO (CAT)
CATEGORIES:Centro de Arte y Turismo,Cultura,Música
ATTACH;FMTTYPE=image/jpeg:https://www.ayto-sotodelreal.es/wp-content/uploads/2022/06/2022_07_02_LSMF-ATLANTIDA-CHAMBER_page-0001-scaled.jpg
END:VEVENT
END:VCALENDAR