BEGIN:VCALENDAR
VERSION:2.0
PRODID:-//Ayuntamiento - Soto del Real - ECPv5.4.0.1//NONSGML v1.0//EN
CALSCALE:GREGORIAN
METHOD:PUBLISH
X-WR-CALNAME:Ayuntamiento - Soto del Real
X-ORIGINAL-URL:https://www.ayto-sotodelreal.es
X-WR-CALDESC:Eventos para Ayuntamiento - Soto del Real
BEGIN:VTIMEZONE
TZID:Europe/Paris
BEGIN:DAYLIGHT
TZOFFSETFROM:+0100
TZOFFSETTO:+0200
TZNAME:CEST
DTSTART:20250330T010000
END:DAYLIGHT
BEGIN:STANDARD
TZOFFSETFROM:+0200
TZOFFSETTO:+0100
TZNAME:CET
DTSTART:20251026T010000
END:STANDARD
END:VTIMEZONE
BEGIN:VEVENT
DTSTART;TZID=Europe/Paris:20251217T110000
DTEND;TZID=Europe/Paris:20251217T110000
DTSTAMP:20260425T133810
CREATED:20250915T091226Z
LAST-MODIFIED:20250915T092234Z
UID:46817-1765969200-1765969200@www.ayto-sotodelreal.es
SUMMARY:FESTIVAL ABRALAPALABRA: UN AUTOR EN LA MALETA
DESCRIPTION:Festival Abralapalabra: Un autor en la maleta\n \nTIPO DE ACTIVIDAD: Encuentro con la escritora Beatriz Martín Vidal para hablar de su libro “Pájaro” entre alumnado del IES Sierra de Guadarrama e internos del  Centro Penitenciario Madrid V\n \nFECHA: 17 de diciembre \n \nHORA: 11 h\n \nLUGAR: Biblioteca\n\n \n 
URL:https://www.ayto-sotodelreal.es/event/festival-abralapalabra-un-autor-en-la-maleta/
LOCATION:Biblioteca municipal Pedro Lorenzo\, C/ Real\, nº2\, Soto del Real \, Madrid\, 28791
CATEGORIES:Biblioteca,Cultura
END:VEVENT
END:VCALENDAR