BEGIN:VCALENDAR
VERSION:2.0
PRODID:-//Ayuntamiento - Soto del Real - ECPv5.4.0.1//NONSGML v1.0//EN
CALSCALE:GREGORIAN
METHOD:PUBLISH
X-WR-CALNAME:Ayuntamiento - Soto del Real
X-ORIGINAL-URL:https://www.ayto-sotodelreal.es
X-WR-CALDESC:Eventos para Ayuntamiento - Soto del Real
BEGIN:VTIMEZONE
TZID:Europe/Paris
BEGIN:DAYLIGHT
TZOFFSETFROM:+0100
TZOFFSETTO:+0200
TZNAME:CEST
DTSTART:20260329T010000
END:DAYLIGHT
BEGIN:STANDARD
TZOFFSETFROM:+0200
TZOFFSETTO:+0100
TZNAME:CET
DTSTART:20261025T010000
END:STANDARD
END:VTIMEZONE
BEGIN:VEVENT
DTSTART;TZID=Europe/Paris:20260523T110000
DTEND;TZID=Europe/Paris:20260523T200000
DTSTAMP:20260423T104617
CREATED:20260404T113902Z
LAST-MODIFIED:20260404T113902Z
UID:49759-1779534000-1779566400@www.ayto-sotodelreal.es
SUMMARY:FERIA DE LA CIENCIA Y LA TECNOLOGÍA
DESCRIPTION:FECHA 23 de mayo; \nHORA:  de 11:00 a 14:00 Robótica y de 17:00 a 20:00 Ciencia; \nLUGAR: Centro Cultural;  \nTalleres de ciencia y robótica dirigidos por el alumnado de las actividades.
URL:https://www.ayto-sotodelreal.es/event/feria-de-la-ciencia-y-la-tecnologia-3/
LOCATION:Centro Cultural Pedro de Lorenzo\, C/ Real\, nº6\, Soto del Real\, Madrid\, 28791\, España
CATEGORIES:Cultura
END:VEVENT
END:VCALENDAR