BEGIN:VCALENDAR
VERSION:2.0
PRODID:-//Ayuntamiento - Soto del Real - ECPv5.4.0.1//NONSGML v1.0//EN
CALSCALE:GREGORIAN
METHOD:PUBLISH
X-WR-CALNAME:Ayuntamiento - Soto del Real
X-ORIGINAL-URL:https://www.ayto-sotodelreal.es
X-WR-CALDESC:Eventos para Ayuntamiento - Soto del Real
BEGIN:VTIMEZONE
TZID:Europe/Paris
BEGIN:DAYLIGHT
TZOFFSETFROM:+0100
TZOFFSETTO:+0200
TZNAME:CEST
DTSTART:20250330T010000
END:DAYLIGHT
BEGIN:STANDARD
TZOFFSETFROM:+0200
TZOFFSETTO:+0100
TZNAME:CET
DTSTART:20251026T010000
END:STANDARD
END:VTIMEZONE
BEGIN:VEVENT
DTSTART;VALUE=DATE:20250701
DTEND;VALUE=DATE:20250715
DTSTAMP:20260423T144315
CREATED:20250410T124412Z
LAST-MODIFIED:20250624T085451Z
UID:45067-1751328000-1752537599@www.ayto-sotodelreal.es
SUMMARY:EXPOSICIÓN DE PINTURA DE ROSA CEBOLLERO DÁVILA
DESCRIPTION:TÍTULO DEL EVENTO: MOMENTOS \nFECHA: 1 a 14 de julio; \nHORA: De L a V 9:00-14:00 y S-D de 11 a 14H..; \nLUGAR: Centro Cultural\, sala de exposiciones; \nENTRADA: GRATUITA;  \n“MOMENTOS” Es una exposición de cuadros en acrílico realizados con espátula\, obras con volumen y textura que te atrapan.
URL:https://www.ayto-sotodelreal.es/event/exposicion-de-pintura-de-rosa-cebollero-davila/
LOCATION:Centro Cultural Pedro de Lorenzo\, C/ Real\, nº6\, Soto del Real\, Madrid\, 28791\, España
CATEGORIES:Cultura
ATTACH;FMTTYPE=image/jpeg:https://www.ayto-sotodelreal.es/wp-content/uploads/2025/04/7.1a14-CARTEL-ROSA-CEBOLLERO-scaled.jpg
END:VEVENT
END:VCALENDAR