BEGIN:VCALENDAR
VERSION:2.0
PRODID:-//Ayuntamiento - Soto del Real - ECPv5.4.0.1//NONSGML v1.0//EN
CALSCALE:GREGORIAN
METHOD:PUBLISH
X-WR-CALNAME:Ayuntamiento - Soto del Real
X-ORIGINAL-URL:https://www.ayto-sotodelreal.es
X-WR-CALDESC:Eventos para Ayuntamiento - Soto del Real
BEGIN:VTIMEZONE
TZID:Europe/Paris
BEGIN:DAYLIGHT
TZOFFSETFROM:+0100
TZOFFSETTO:+0200
TZNAME:CEST
DTSTART:20250330T010000
END:DAYLIGHT
BEGIN:STANDARD
TZOFFSETFROM:+0200
TZOFFSETTO:+0100
TZNAME:CET
DTSTART:20251026T010000
END:STANDARD
END:VTIMEZONE
BEGIN:VEVENT
DTSTART;VALUE=DATE:20250818
DTEND;VALUE=DATE:20250823
DTSTAMP:20260423T123551
CREATED:20250729T072521Z
LAST-MODIFIED:20250729T072521Z
UID:46365-1755475200-1755907199@www.ayto-sotodelreal.es
SUMMARY:EXPO: ENTRAMADOS DE ANHELOS Y SUEÑOS. LAURA MATEO
DESCRIPTION:Mi propia técnica\, “Entramado” refleja mi inclinación por explorar nuevas formas de expresión artística\, siendo esta una extensión de mi pasión creativa. Mi desarrollo y dedicación al “Entramado” me permite transmitir mis impulsos internos\, emociones y sensibilidades y despertar en el espectador su propia reacción emocional. Intento transformar la pintura en una narrativa visual única.
URL:https://www.ayto-sotodelreal.es/event/expo-entramados-de-anhelos-y-suenos-laura-mateo-2/
LOCATION:Centro Cultural Pedro de Lorenzo\, C/ Real\, nº6\, Soto del Real\, Madrid\, 28791\, España
CATEGORIES:Cultura
ATTACH;FMTTYPE=image/jpeg:https://www.ayto-sotodelreal.es/wp-content/uploads/2025/07/08.12-AL-28-LAURA-MATEO-CARTEL-EXPO_page-0001-scaled.jpg
END:VEVENT
END:VCALENDAR